Workbook
Name PredDLR: [1]Parameters!$C$45
Name PredOHR: [1]Parameters!$C$38
Name VAT: [1]Parameters!$C$20

Sheet Physician Comparative Tariffs
A1: HEALTHMAN PHYSICIAN COSTING GUIDE 2026
A3: COMPARATIVE TARIFFS
D4: HealthMan | F4: BankMed | Q4: Bonitas | U4: Discovery | AE4: FedHealth | AJ4: GEMS | AN4: KeyHealth | AQ4: POLMED | AU4: Other
A5: Code | B5: Terminology | C5: Average Duration Professional | D5: Upper Benchmark Tariff | E5: RCF | F5: Non-Network Base Rate | G5: Non-Network RCF | H5: Network Base Rate | I5: Network RCF | J5: DPA | K5: DPA | L5: DPA | M5: DPA | N5: DPA | O5: DPA | P5: DPA | Q5: Base Rate | R5: RCF | S5: DPA | T5: DPA | U5: Non-Network Base Rate | V5: Non-Network RCF | W5: Network Base Rate | X5: Network RCF | Y5: KeyCare | Z5: Prem A (IH) | AA5: Prem A (OH) | AB5: Prem B | AC5: Classic Rate | AD5: Exec Rate | AE5: Base Rate | AF5: RCF | AG5: DPA | AH5: DPA | AI5: DPA | AJ5: Non-Contracted Base Rate | AK5: Non-Contracted RCF | AL5: Contracted Base Rate | AM5: Contracted RCF | AN5: Base Rate | AO5: RCF | AP5: DPA | AQ5: Contracted Base Rate | AR5: RCF | AS5: POLMED DPA | AT5: POLMED DPA | AU5: BestMed Base Rate | AV5: BestMed RCF | AW5: CAMAF Base Rate | AX5: CAMAF RCF | AY5: Medihelp Base Rate | AZ5: Medihelp RCF | BA5: Profmed Base Rate | BB5: Profmed RCF
J6: 1.1 | K6: 1.37 | L6: 1.47 | M6: 1.62 | N6: 2 | O6: 2.15 | P6: 3 | S6: 1.3 | T6: 1.5 | Y6: 1.1 | Z6: 1.37 | AA6: 1.62 | AB6: 1.47 | AC6: 2.17 | AD6: 3 | AG6: 1.65 | AH6: 2.1 | AI6: 3 | AP6: 1.5 | AS6: 1.3 | AT6: 1.45
C7: Units | D7: R | E7: R | F7: R | G7: R | H7: R | I7: R | J7: R | K7: R | L7: R | M7: R | N7: R | O7: R | P7: R | Q7: R | R7: R | S7: R | T7: R | U7: R | V7: R | W7: R | X7: R | Y7: R | Z7: R | AA7: R | AB7: R | AC7: R | AD7: R | AE7: R | AF7: R | AG7: R | AH7: R | AI7: R | AJ7: R | AK7: R | AL7: R | AM7: R | AN7: R | AO7: R | AP7: R | AQ7: R | AR7: R | AS7: R | AT7: R | AU7: R | AV7: R | AW7: R | AX7: R | AY7: R | AZ7: R | BA7: R | BB7: R
B8: Consultations:
B10: See the Notes below for All Tariffs
A11: 0109 | B11: Hospital follow-up visit | C11: 15 | D11: =ROUND(E11*C11,1) -> 1129 | E11: =RCFs!C$43 -> 75.268515 | F11: =ROUNDDOWN((H11/1.039),1) -> 432.6 | G11: =F11/C11 -> 28.84 | H11: 449.5 | I11: =H11/C11 -> 29.966667 | J11: =ROUND($C11*$I11*J$6,1) -> 494.5 | K11: =ROUND($C11*$I11*K$6,1) -> 615.8 | L11: =ROUND($C11*$I11*L$6,1) -> 660.8 | M11: =ROUND($C11*$I11*M$6,1) -> 728.2 | N11: =ROUND($C11*$I11*N$6,1) -> 899 | O11: =ROUND($C11*$I11*O$6,1) -> 966.4 | P11: =ROUND($C11*$I11*P$6,1) -> 1348.5 | Q11: 467.5 | R11: =Q11/C11 -> 31.166667 | S11: =ROUNDDOWN($Q11*S$6,1) -> 607.7 | T11: =ROUNDDOWN($Q11*T$6,1) -> 701.2 | U11: 303 | V11: =U11/C11 -> 20.2 | W11: 322.9 | X11: =W11/C11 -> 21.526667 | Y11: =ROUNDDOWN($W11*Y$6,1) -> 355.1 | Z11: =ROUNDDOWN($W11*Z$6,1) -> 442.3 | AA11: =ROUNDDOWN($W11*AA$6,1) -> 523 | AB11: =ROUNDDOWN($W11*AB$6,1) -> 474.6 | AC11: =ROUNDDOWN($W11*AC$6,1) -> 700.6 | AD11: =ROUNDDOWN($W11*AD$6,1) -> 968.7 | AE11: 463.4 | AF11: =AE11/C11 -> 30.893333 | AG11: =ROUND($AE11*AG$6,1) -> 764.6 | AH11: =ROUND($AE11*AH$6,1) -> 973.1 | AI11: =ROUND($AE11*AI$6,1) -> 1390.2 | AJ11: 446.9 | AK11: =AJ11/C11 -> 29.793333 | AL11: 607.8 | AM11: =AL11/C11 -> 40.52 | AN11: 486.9 | AO11: =AN11/C11 -> 32.46 | AP11: =ROUNDDOWN($AN11*AP$6,1) -> 730.3 | AQ11: 487.5 | AR11: =AQ11/C11 -> 32.5 | AS11: =ROUNDDOWN($AQ11*AS$6,1) -> 633.7 | AT11: =ROUNDDOWN($AQ11*AT$6,1) -> 706.8 | AU11: 472.4 | AV11: =AU11/C11 -> 31.493333 | AW11: 480.2 | AX11: =AW11/C11 -> 32.013333 | AZ11: =AY11/C11 -> 0 | BA11: =ROUNDDOWN(C11*BB11,1) -> 461.8 | BB11: =RCFs!I$41 -> 30.791
A12: 0113 | B12: Newborn Attendance - Emergency at all hours | C12: 45 | D12: =ROUND(E12*C12,1) -> 3387.1 | E12: =RCFs!C$43 -> 75.268515 | F12: =ROUNDDOWN((H12/1.039),1) -> 1298 | G12: =F12/C12 -> 28.844444 | H12: 1348.7 | I12: =H12/C12 -> 29.971111 | J12: =ROUND($C12*$I12*J$6,1) -> 1483.6 | K12: =ROUND($C12*$I12*K$6,1) -> 1847.7 | L12: =ROUND($C12*$I12*L$6,1) -> 1982.6 | M12: =ROUND($C12*$I12*M$6,1) -> 2184.9 | N12: =ROUND($C12*$I12*N$6,1) -> 2697.4 | O12: =ROUND($C12*$I12*O$6,1) -> 2899.7 | P12: =ROUND($C12*$I12*P$6,1) -> 4046.1 | Q12: 1402.5 | R12: =Q12/C12 -> 31.166667 | S12: =ROUNDDOWN($Q12*S$6,1) -> 1823.2 | T12: =ROUNDDOWN($Q12*T$6,1) -> 2103.7 | U12: 1269 | V12: =U12/C12 -> 28.2 | W12: 1351.6 | X12: =W12/C12 -> 30.035556 | Y12: =ROUNDDOWN($W12*Y$6,1) -> 1486.7 | Z12: =ROUNDDOWN($W12*Z$6,1) -> 1851.6 | AA12: =ROUNDDOWN($W12*AA$6,1) -> 2189.5 | AB12: =ROUNDDOWN($W12*AB$6,1) -> 1986.8 | AC12: =ROUNDDOWN($W12*AC$6,1) -> 2932.9 | AD12: =ROUNDDOWN($W12*AD$6,1) -> 4054.8 | AE12: 1390.8 | AF12: =AE12/C12 -> 30.906667 | AG12: =ROUND($AE12*AG$6,1) -> 2294.8 | AH12: =ROUND($AE12*AH$6,1) -> 2920.7 | AI12: =ROUND($AE12*AI$6,1) -> 4172.4 | AJ12: 0 | AK12: =AJ12/C12 -> 0 | AL12: 0 | AM12: =AL12/C12 -> 0 | AO12: =AN12/C12 -> 0 | AP12: =ROUNDDOWN($AN12*AP$6,1) -> 0 | AQ12: 1463.8 | AR12: =AQ12/C12 -> 32.528889 | AS12: =ROUNDDOWN($AQ12*AS$6,1) -> 1902.9 | AT12: =ROUNDDOWN($AQ12*AT$6,1) -> 2122.5 | AU12: 1416.5 | AV12: =AU12/C12 -> 31.477778 | AW12: 0 | AX12: =AW12/C12 -> 0 | AZ12: =AY12/C12 -> 0 | BA12: =ROUNDDOWN(C12*BB12,1) -> 1385.5 | BB12: =RCFs!I$41 -> 30.791
A13: 0129 | B13: Prolonged first/follow-up consultation : 15 min | C13: 15 | D13: =ROUND(E13*C13,1) -> 1129 | E13: =RCFs!C$43 -> 75.268515 | F13: =ROUNDDOWN((H13/1.039),1) -> 432.6 | G13: =F13/C13 -> 28.84 | H13: 449.5 | I13: =H13/C13 -> 29.966667 | J13: =ROUND($C13*$I13*J$6,1) -> 494.5 | K13: =ROUND($C13*$I13*K$6,1) -> 615.8 | L13: =ROUND($C13*$I13*L$6,1) -> 660.8 | M13: =ROUND($C13*$I13*M$6,1) -> 728.2 | N13: =ROUND($C13*$I13*N$6,1) -> 899 | O13: =ROUND($C13*$I13*O$6,1) -> 966.4 | P13: =ROUND($C13*$I13*P$6,1) -> 1348.5 | Q13: 467.5 | R13: =Q13/C13 -> 31.166667 | S13: =ROUNDDOWN($Q13*S$6,1) -> 607.7 | T13: =ROUNDDOWN($Q13*T$6,1) -> 701.2 | U13: 422.9 | V13: =U13/C13 -> 28.193333 | W13: 450.4 | X13: =W13/C13 -> 30.026667 | Y13: =ROUNDDOWN($W13*Y$6,1) -> 495.4 | Z13: =ROUNDDOWN($W13*Z$6,1) -> 617 | AA13: =ROUNDDOWN($W13*AA$6,1) -> 729.6 | AB13: =ROUNDDOWN($W13*AB$6,1) -> 662 | AC13: =ROUNDDOWN($W13*AC$6,1) -> 977.3 | AD13: =ROUNDDOWN($W13*AD$6,1) -> 1351.2 | AE13: 463.4 | AF13: =AE13/C13 -> 30.893333 | AG13: =ROUND($AE13*AG$6,1) -> 764.6 | AH13: =ROUND($AE13*AH$6,1) -> 973.1 | AI13: =ROUND($AE13*AI$6,1) -> 1390.2 | AJ13: 437.7 | AK13: =AJ13/C13 -> 29.18 | AL13: 607.8 | AM13: =AL13/C13 -> 40.52 | AN13: 486.9 | AO13: =AN13/C13 -> 32.46 | AP13: =ROUNDDOWN($AN13*AP$6,1) -> 730.3 | AQ13: 487.5 | AR13: =AQ13/C13 -> 32.5 | AS13: =ROUNDDOWN($AQ13*AS$6,1) -> 633.7 | AT13: =ROUNDDOWN($AQ13*AT$6,1) -> 706.8 | AU13: 472.4 | AV13: =AU13/C13 -> 31.493333 | AW13: 480.2 | AX13: =AW13/C13 -> 32.013333 | AZ13: =AY13/C13 -> 0 | BA13: =ROUNDDOWN(C13*BB13,1) -> 461.8 | BB13: =RCFs!I$41 -> 30.791
A14: 0130 | B14: Telephone consultation (all hours) | C14: 12 | D14: =ROUND(E14*C14,1) -> 903.2 | E14: =RCFs!C$43 -> 75.268515 | F14: =ROUNDDOWN((H14/1.039),1) -> 374.8 | G14: =F14/C14 -> 31.233333 | H14: 389.5 | I14: =H14/C14 -> 32.458333 | J14: =ROUND($C14*$I14*J$6,1) -> 428.5 | K14: =ROUND($C14*$I14*K$6,1) -> 533.6 | L14: =ROUND($C14*$I14*L$6,1) -> 572.6 | M14: =ROUND($C14*$I14*M$6,1) -> 631 | N14: =ROUND($C14*$I14*N$6,1) -> 779 | O14: =ROUND($C14*$I14*O$6,1) -> 837.4 | P14: =ROUND($C14*$I14*P$6,1) -> 1168.5 | Q14: 560.9 | R14: =Q14/C14 -> 46.741667 | S14: =ROUNDDOWN($Q14*S$6,1) -> 729.1 | T14: =ROUNDDOWN($Q14*T$6,1) -> 841.3 | U14: 387.9 | V14: =U14/C14 -> 32.325 | W14: 413 | X14: =W14/C14 -> 34.416667 | Y14: =ROUNDDOWN($W14*Y$6,1) -> 454.3 | Z14: =ROUNDDOWN($W14*Z$6,1) -> 565.8 | AA14: =ROUNDDOWN($W14*AA$6,1) -> 669 | AB14: =ROUNDDOWN($W14*AB$6,1) -> 607.1 | AC14: =ROUNDDOWN($W14*AC$6,1) -> 896.2 | AD14: =ROUNDDOWN($W14*AD$6,1) -> 1239 | AE14: 556.1 | AF14: =AE14/C14 -> 46.341667 | AG14: =ROUND($AE14*AG$6,1) -> 917.6 | AH14: =ROUND($AE14*AH$6,1) -> 1167.8 | AI14: =ROUND($AE14*AI$6,1) -> 1668.3 | AJ14: 523 | AK14: =AJ14/C14 -> 43.583333 | AL14: 711.4 | AM14: =AL14/C14 -> 59.283333 | AN14: 585.1 | AO14: =AN14/C14 -> 48.758333 | AP14: =ROUNDDOWN($AN14*AP$6,1) -> 877.6 | AQ14: 585.5 | AR14: =AQ14/C14 -> 48.791667 | AS14: =ROUNDDOWN($AQ14*AS$6,1) -> 761.1 | AT14: =ROUNDDOWN($AQ14*AT$6,1) -> 848.9 | AU14: 378 | AV14: =AU14/C14 -> 31.5 | AW14: 0 | AX14: =AW14/C14 -> 0 | AZ14: =AY14/C14 -> 0 | BA14: =ROUNDDOWN(C14*BB14,1) -> 369.4 | BB14: =RCFs!I$41 -> 30.791
A15: 0132 | B15: Repeat Script | C15: 5 | D15: =ROUND(E15*C15,1) -> 376.3 | E15: =RCFs!C$43 -> 75.268515 | F15: =ROUNDDOWN((H15/1.039),1) -> 144.3 | G15: =F15/C15 -> 28.86 | H15: 150 | I15: =H15/C15 -> 30 | J15: =ROUND($C15*$I15*J$6,1) -> 165 | K15: =ROUND($C15*$I15*K$6,1) -> 205.5 | L15: =ROUND($C15*$I15*L$6,1) -> 220.5 | M15: =ROUND($C15*$I15*M$6,1) -> 243 | N15: =ROUND($C15*$I15*N$6,1) -> 300 | O15: =ROUND($C15*$I15*O$6,1) -> 322.5 | P15: =ROUND($C15*$I15*P$6,1) -> 450 | Q15: 156.2 | R15: =Q15/C15 -> 31.24 | S15: =ROUNDDOWN($Q15*S$6,1) -> 203 | T15: =ROUNDDOWN($Q15*T$6,1) -> 234.3 | U15: 140.9 | V15: =U15/C15 -> 28.18 | W15: 149.8 | X15: =W15/C15 -> 29.96 | Y15: =ROUNDDOWN($W15*Y$6,1) -> 164.7 | Z15: =ROUNDDOWN($W15*Z$6,1) -> 205.2 | AA15: =ROUNDDOWN($W15*AA$6,1) -> 242.6 | AB15: =ROUNDDOWN($W15*AB$6,1) -> 220.2 | AC15: =ROUNDDOWN($W15*AC$6,1) -> 325 | AD15: =ROUNDDOWN($W15*AD$6,1) -> 449.4 | AE15: 154.9 | AF15: =AE15/C15 -> 30.98 | AG15: =ROUND($AE15*AG$6,1) -> 255.6 | AH15: =ROUND($AE15*AH$6,1) -> 325.3 | AI15: =ROUND($AE15*AI$6,1) -> 464.7 | AJ15: 148.9 | AK15: =AJ15/C15 -> 29.78 | AL15: 202.9 | AM15: =AL15/C15 -> 40.58 | AN15: 162.7 | AO15: =AN15/C15 -> 32.54 | AP15: =ROUNDDOWN($AN15*AP$6,1) -> 244 | AQ15: 162.4 | AR15: =AQ15/C15 -> 32.48 | AS15: =ROUNDDOWN($AQ15*AS$6,1) -> 211.1 | AT15: =ROUNDDOWN($AQ15*AT$6,1) -> 235.4 | AU15: 157.4 | AV15: =AU15/C15 -> 31.48 | AW15: 160.1 | AX15: =AW15/C15 -> 32.02 | AZ15: =AY15/C15 -> 0 | BA15: =ROUNDDOWN(C15*BB15,1) -> 153.9 | BB15: =RCFs!I$41 -> 30.791
A16: 0133 | B16: Special motivations for procedures and treatment | C16: 9 | D16: =ROUND(E16*C16,1) -> 677.4 | E16: =RCFs!C$43 -> 75.268515 | F16: =ROUNDDOWN((H16/1.039),1) -> 259.5 | G16: =F16/C16 -> 28.833333 | H16: 269.7 | I16: =H16/C16 -> 29.966667 | J16: =ROUND($C16*$I16*J$6,1) -> 296.7 | K16: =ROUND($C16*$I16*K$6,1) -> 369.5 | L16: =ROUND($C16*$I16*L$6,1) -> 396.5 | M16: =ROUND($C16*$I16*M$6,1) -> 436.9 | N16: =ROUND($C16*$I16*N$6,1) -> 539.4 | O16: =ROUND($C16*$I16*O$6,1) -> 579.9 | P16: =ROUND($C16*$I16*P$6,1) -> 809.1 | Q16: 280.5 | R16: =Q16/C16 -> 31.166667 | S16: =ROUNDDOWN($Q16*S$6,1) -> 364.6 | T16: =ROUNDDOWN($Q16*T$6,1) -> 420.7 | U16: 253.5 | V16: =U16/C16 -> 28.166667 | W16: 269.8 | X16: =W16/C16 -> 29.977778 | Y16: =ROUNDDOWN($W16*Y$6,1) -> 296.7 | Z16: =ROUNDDOWN($W16*Z$6,1) -> 369.6 | AA16: =ROUNDDOWN($W16*AA$6,1) -> 437 | AB16: =ROUNDDOWN($W16*AB$6,1) -> 396.6 | AC16: =ROUNDDOWN($W16*AC$6,1) -> 585.4 | AD16: =ROUNDDOWN($W16*AD$6,1) -> 809.4 | AE16: 277.9 | AF16: =AE16/C16 -> 30.877778 | AG16: =ROUND($AE16*AG$6,1) -> 458.5 | AH16: =ROUND($AE16*AH$6,1) -> 583.6 | AI16: =ROUND($AE16*AI$6,1) -> 833.7 | AJ16: 268.2 | AK16: =AJ16/C16 -> 29.8 | AL16: 364.7 | AM16: =AL16/C16 -> 40.522222 | AN16: 292.4 | AO16: =AN16/C16 -> 32.488889 | AP16: =ROUNDDOWN($AN16*AP$6,1) -> 438.6 | AQ16: 292.7 | AR16: =AQ16/C16 -> 32.522222 | AS16: =ROUNDDOWN($AQ16*AS$6,1) -> 380.5 | AT16: =ROUNDDOWN($AQ16*AT$6,1) -> 424.4 | AU16: 283.7 | AV16: =AU16/C16 -> 31.522222 | AW16: 288.1 | AX16: =AW16/C16 -> 32.011111 | AZ16: =AY16/C16 -> 0 | BA16: =ROUNDDOWN(C16*BB16,1) -> 277.1 | BB16: =RCFs!I$41 -> 30.791
A17: 0126 | B17: Unscheduled consultation (cons.room) | C17: 8 | D17: =ROUND(E17*C17,1) -> 602.1 | E17: =RCFs!C$43 -> 75.268515 | F17: =ROUNDDOWN((H17/1.039),1) -> 0 | G17: =F17/C17 -> 0 | I17: =H17/C17 -> 0 | J17: =ROUND($C17*$I17*J$6,1) -> 0 | K17: =ROUND($C17*$I17*K$6,1) -> 0 | L17: =ROUND($C17*$I17*L$6,1) -> 0 | M17: =ROUND($C17*$I17*M$6,1) -> 0 | N17: =ROUND($C17*$I17*N$6,1) -> 0 | O17: =ROUND($C17*$I17*O$6,1) -> 0 | P17: =ROUND($C17*$I17*P$6,1) -> 0 | R17: =Q17/C17 -> 0 | S17: =ROUNDDOWN($Q17*S$6,1) -> 0 | T17: =ROUNDDOWN($Q17*T$6,1) -> 0 | U17: =U19 -> 225.8 | V17: =U17/C17 -> 28.225 | W17: =W19 -> 240.3 | X17: =W17/C17 -> 30.0375 | Y17: =ROUNDDOWN($W17*Y$6,1) -> 264.3 | Z17: =ROUNDDOWN($W17*Z$6,1) -> 329.2 | AA17: =ROUNDDOWN($W17*AA$6,1) -> 389.2 | AB17: =ROUNDDOWN($W17*AB$6,1) -> 353.2 | AC17: =ROUNDDOWN($W17*AC$6,1) -> 521.4 | AD17: =ROUNDDOWN($W17*AD$6,1) -> 720.9 | AE17: =AE19 -> 247.1 | AF17: =AE17/C17 -> 30.8875 | AG17: =ROUND($AE17*AG$6,1) -> 407.7 | AH17: =ROUND($AE17*AH$6,1) -> 518.9 | AI17: =ROUND($AE17*AI$6,1) -> 741.3 | AJ17: =AJ19 -> 238.5 | AK17: =AJ17/C17 -> 29.8125 | AL17: =AL19 -> 324.4 | AM17: =AL17/C17 -> 40.55 | AN17: =AN19 -> 260.3 | AO17: =AN17/C17 -> 32.5375 | AP17: =ROUNDDOWN($AN17*AP$6,1) -> 390.4 | AQ17: =AQ19 -> 260 | AR17: =AR$11 -> 32.5 | AS17: =ROUNDDOWN($AQ17*AS$6,1) -> 338 | AT17: =ROUNDDOWN($AQ17*AT$6,1) -> 377 | AU17: =AU19 -> 251.7 | AV17: =AU17/C17 -> 31.4625 | AW17: =AW19 -> 256.1 | AX17: =AW17/C17 -> 32.0125 | AY17: =AY19 -> 0 | AZ17: =AY17/C17 -> 0 | BA17: =ROUNDDOWN(C17*BB17,1) -> 246.3 | BB17: =RCFs!I$41 -> 30.791
A18: 0145 | B18: Consultation : Away from doctor's room | C18: 6 | D18: =ROUND(E18*C18,1) -> 451.6 | E18: =RCFs!C$43 -> 75.268515 | F18: =ROUNDDOWN((H18/1.039),1) -> 173 | G18: =F18/C18 -> 28.833333 | H18: 179.8 | I18: =H18/C18 -> 29.966667 | J18: =ROUND($C18*$I18*J$6,1) -> 197.8 | K18: =ROUND($C18*$I18*K$6,1) -> 246.3 | L18: =ROUND($C18*$I18*L$6,1) -> 264.3 | M18: =ROUND($C18*$I18*M$6,1) -> 291.3 | N18: =ROUND($C18*$I18*N$6,1) -> 359.6 | O18: =ROUND($C18*$I18*O$6,1) -> 386.6 | P18: =ROUND($C18*$I18*P$6,1) -> 539.4 | Q18: =ROUNDDOWN(C18*R18,1) -> 187 | R18: =R$11 -> 31.166667 | S18: =ROUNDDOWN($Q18*S$6,1) -> 243.1 | T18: =ROUNDDOWN($Q18*T$6,1) -> 280.5 | U18: 169.3 | V18: =U18/C18 -> 28.216667 | W18: 180.3 | X18: =W18/C18 -> 30.05 | Y18: =ROUNDDOWN($W18*Y$6,1) -> 198.3 | Z18: =ROUNDDOWN($W18*Z$6,1) -> 247 | AA18: =ROUNDDOWN($W18*AA$6,1) -> 292 | AB18: =ROUNDDOWN($W18*AB$6,1) -> 265 | AC18: =ROUNDDOWN($W18*AC$6,1) -> 391.2 | AD18: =ROUNDDOWN($W18*AD$6,1) -> 540.9 | AE18: =ROUNDDOWN($AF$11*C18,1) -> 185.3 | AF18: =AE18/C18 -> 30.883333 | AG18: =ROUND($AE18*AG$6,1) -> 305.7 | AH18: =ROUND($AE18*AH$6,1) -> 389.1 | AI18: =ROUND($AE18*AI$6,1) -> 555.9 | AJ18: 178.8 | AK18: =AJ18/C18 -> 29.8 | AL18: 243.3 | AM18: =AL18/C18 -> 40.55 | AN18: 195.2 | AO18: =AN18/C18 -> 32.533333 | AP18: =ROUNDDOWN($AN18*AP$6,1) -> 292.8 | AQ18: =ROUNDDOWN($AR$11*C18,1) -> 195 | AR18: =AR$11 -> 32.5 | AS18: =ROUNDDOWN($AQ18*AS$6,1) -> 253.5 | AT18: =ROUNDDOWN($AQ18*AT$6,1) -> 282.7 | AU18: 189 | AV18: =AU18/C18 -> 31.5 | AW18: 192.1 | AX18: =AW18/C18 -> 32.016667 | AZ18: =AY18/C18 -> 0 | BA18: =ROUNDDOWN(C18*BB18,1) -> 184.7 | BB18: =RCFs!I$41 -> 30.791
A19: 0146 | B19: Emergency consultation (cons.room) | C19: 8 | D19: =ROUND(E19*C19,1) -> 602.1 | E19: =RCFs!C$43 -> 75.268515 | F19: =ROUNDDOWN((H19/1.039),1) -> 230.5 | G19: =F19/C19 -> 28.8125 | H19: 239.5 | I19: =H19/C19 -> 29.9375 | J19: =ROUND($C19*$I19*J$6,1) -> 263.5 | K19: =ROUND($C19*$I19*K$6,1) -> 328.1 | L19: =ROUND($C19*$I19*L$6,1) -> 352.1 | M19: =ROUND($C19*$I19*M$6,1) -> 388 | N19: =ROUND($C19*$I19*N$6,1) -> 479 | O19: =ROUND($C19*$I19*O$6,1) -> 514.9 | P19: =ROUND($C19*$I19*P$6,1) -> 718.5 | Q19: =ROUNDDOWN(C19*R19,1) -> 249.3 | R19: =R$11 -> 31.166667 | S19: =ROUNDDOWN($Q19*S$6,1) -> 324 | T19: =ROUNDDOWN($Q19*T$6,1) -> 373.9 | U19: 225.8 | V19: =U19/C19 -> 28.225 | W19: 240.3 | X19: =W19/C19 -> 30.0375 | Y19: =ROUNDDOWN($W19*Y$6,1) -> 264.3 | Z19: =ROUNDDOWN($W19*Z$6,1) -> 329.2 | AA19: =ROUNDDOWN($W19*AA$6,1) -> 389.2 | AB19: =ROUNDDOWN($W19*AB$6,1) -> 353.2 | AC19: =ROUNDDOWN($W19*AC$6,1) -> 521.4 | AD19: =ROUNDDOWN($W19*AD$6,1) -> 720.9 | AE19: =ROUNDDOWN($AF$11*C19,1) -> 247.1 | AF19: =AE19/C19 -> 30.8875 | AG19: =ROUND($AE19*AG$6,1) -> 407.7 | AH19: =ROUND($AE19*AH$6,1) -> 518.9 | AI19: =ROUND($AE19*AI$6,1) -> 741.3 | AJ19: 238.5 | AK19: =AJ19/C19 -> 29.8125 | AL19: 324.4 | AM19: =AL19/C19 -> 40.55 | AN19: 260.3 | AO19: =AN19/C19 -> 32.5375 | AP19: =ROUNDDOWN($AN19*AP$6,1) -> 390.4 | AQ19: =ROUNDDOWN($AR$11*C19,1) -> 260 | AR19: =AR$11 -> 32.5 | AS19: =ROUNDDOWN($AQ19*AS$6,1) -> 338 | AT19: =ROUNDDOWN($AQ19*AT$6,1) -> 377 | AU19: 251.7 | AV19: =AU19/C19 -> 31.4625 | AW19: 256.1 | AX19: =AW19/C19 -> 32.0125 | AZ19: =AY19/C19 -> 0 | BA19: =ROUNDDOWN(C19*BB19,1) -> 246.3 | BB19: =RCFs!I$41 -> 30.791
A20: 0147 | B20: Emergency consultation (not cons.room) | C20: 14 | D20: =ROUND(E20*C20,1) -> 1053.8 | E20: =RCFs!C$43 -> 75.268515 | F20: =ROUNDDOWN((H20/1.039),1) -> 403.8 | G20: =F20/C20 -> 28.842857 | H20: 419.6 | I20: =H20/C20 -> 29.971429 | J20: =ROUND($C20*$I20*J$6,1) -> 461.6 | K20: =ROUND($C20*$I20*K$6,1) -> 574.9 | L20: =ROUND($C20*$I20*L$6,1) -> 616.8 | M20: =ROUND($C20*$I20*M$6,1) -> 679.8 | N20: =ROUND($C20*$I20*N$6,1) -> 839.2 | O20: =ROUND($C20*$I20*O$6,1) -> 902.1 | P20: =ROUND($C20*$I20*P$6,1) -> 1258.8 | Q20: =ROUNDDOWN(C20*R20,1) -> 436.3 | R20: =R$11 -> 31.166667 | S20: =ROUNDDOWN($Q20*S$6,1) -> 567.1 | T20: =ROUNDDOWN($Q20*T$6,1) -> 654.4 | U20: 395.2 | V20: =U20/C20 -> 28.228571 | W20: 420.9 | X20: =W20/C20 -> 30.064286 | Y20: =ROUNDDOWN($W20*Y$6,1) -> 462.9 | Z20: =ROUNDDOWN($W20*Z$6,1) -> 576.6 | AA20: =ROUNDDOWN($W20*AA$6,1) -> 681.8 | AB20: =ROUNDDOWN($W20*AB$6,1) -> 618.7 | AC20: =ROUNDDOWN($W20*AC$6,1) -> 913.3 | AD20: =ROUNDDOWN($W20*AD$6,1) -> 1262.7 | AE20: =ROUNDDOWN($AF$11*C20,1) -> 432.5 | AF20: =AE20/C20 -> 30.892857 | AG20: =ROUND($AE20*AG$6,1) -> 713.6 | AH20: =ROUND($AE20*AH$6,1) -> 908.3 | AI20: =ROUND($AE20*AI$6,1) -> 1297.5 | AJ20: 417.3 | AK20: =AJ20/C20 -> 29.807143 | AL20: 567.6 | AM20: =AL20/C20 -> 40.542857 | AN20: 455.1 | AO20: =AN20/C20 -> 32.507143 | AP20: =ROUNDDOWN($AN20*AP$6,1) -> 682.6 | AQ20: =ROUNDDOWN($AR$11*C20,1) -> 455 | AR20: =AR$11 -> 32.5 | AS20: =ROUNDDOWN($AQ20*AS$6,1) -> 591.5 | AT20: =ROUNDDOWN($AQ20*AT$6,1) -> 659.7 | AU20: 440.8 | AV20: =AU20/C20 -> 31.485714 | AW20: 448.2 | AX20: =AW20/C20 -> 32.014286 | AZ20: =AY20/C20 -> 0 | BA20: =ROUNDDOWN(C20*BB20,1) -> 431 | BB20: =RCFs!I$41 -> 30.791
A21: 0148 | B21: Elective after-hours services(+50%) | D21: 0 | E21: 0 | F21: =ROUNDDOWN((H21/1.039),1) -> 0 | G21: 0 | H21: 0 | I21: 0 | J21: =ROUND($C21*$I21*J$6,1) -> 0 | K21: =ROUND($C21*$I21*K$6,1) -> 0 | L21: =ROUND($C21*$I21*L$6,1) -> 0 | M21: =ROUND($C21*$I21*M$6,1) -> 0 | N21: =ROUND($C21*$I21*N$6,1) -> 0 | O21: =ROUND($C21*$I21*O$6,1) -> 0 | P21: =ROUND($C21*$I21*P$6,1) -> 0 | Q21: 0 | R21: 0 | S21: =ROUNDDOWN($Q21*S$6,1) -> 0 | T21: =ROUNDDOWN($Q21*T$6,1) -> 0 | U21: 0 | V21: 0 | W21: 0 | X21: 0 | Y21: =ROUNDDOWN($W21*Y$6,1) -> 0 | Z21: =ROUNDDOWN($W21*Z$6,1) -> 0 | AA21: =ROUNDDOWN($W21*AA$6,1) -> 0 | AB21: =ROUNDDOWN($W21*AB$6,1) -> 0 | AC21: =ROUNDDOWN($W21*AC$6,1) -> 0 | AD21: =ROUNDDOWN($W21*AD$6,1) -> 0 | AE21: 0 | AF21: 0 | AG21: =ROUND($AE21*AG$6,1) -> 0 | AH21: =ROUND($AE21*AH$6,1) -> 0 | AI21: =ROUND($AE21*AI$6,1) -> 0 | AJ21: 0 | AK21: 0 | AL21: 0 | AM21: 0 | AN21: 0 | AO21: 0 | AP21: =ROUNDDOWN($AN21*AP$6,1) -> 0 | AQ21: 0 | AR21: 0 | AS21: =ROUNDDOWN($AQ21*AS$6,1) -> 0 | AT21: =ROUNDDOWN($AQ21*AT$6,1) -> 0 | AU21: 0 | AV21: 0 | AW21: 0 | AX21: 0 | AY21: 0 | AZ21: 0 | BA21: =ROUNDDOWN(C21*BB21,1) -> 0 | BB21: 0
A22: 0149 | B22: Emergency after-hours services(+25%) | D22: 0 | E22: 0 | F22: =ROUNDDOWN((H22/1.039),1) -> 0 | G22: 0 | H22: 0 | I22: 0 | J22: =ROUND($C22*$I22*J$6,1) -> 0 | K22: =ROUND($C22*$I22*K$6,1) -> 0 | L22: =ROUND($C22*$I22*L$6,1) -> 0 | M22: =ROUND($C22*$I22*M$6,1) -> 0 | N22: =ROUND($C22*$I22*N$6,1) -> 0 | O22: =ROUND($C22*$I22*O$6,1) -> 0 | P22: =ROUND($C22*$I22*P$6,1) -> 0 | Q22: 0 | R22: 0 | S22: =ROUNDDOWN($Q22*S$6,1) -> 0 | T22: =ROUNDDOWN($Q22*T$6,1) -> 0 | U22: 0 | V22: 0 | W22: 0 | X22: 0 | Y22: =ROUNDDOWN($W22*Y$6,1) -> 0 | Z22: =ROUNDDOWN($W22*Z$6,1) -> 0 | AA22: =ROUNDDOWN($W22*AA$6,1) -> 0 | AB22: =ROUNDDOWN($W22*AB$6,1) -> 0 | AC22: =ROUNDDOWN($W22*AC$6,1) -> 0 | AD22: =ROUNDDOWN($W22*AD$6,1) -> 0 | AE22: 0 | AF22: 0 | AG22: =ROUND($AE22*AG$6,1) -> 0 | AH22: =ROUND($AE22*AH$6,1) -> 0 | AI22: =ROUND($AE22*AI$6,1) -> 0 | AJ22: 188.8 | AK22: 0 | AL22: 256.8 | AM22: 0 | AN22: 0 | AO22: 0 | AP22: =ROUNDDOWN($AN22*AP$6,1) -> 0 | AQ22: 0 | AR22: 0 | AS22: =ROUNDDOWN($AQ22*AS$6,1) -> 0 | AT22: =ROUNDDOWN($AQ22*AT$6,1) -> 0 | AU22: 0 | AV22: 0 | AW22: 0 | AX22: 0 | AY22: 0 | AZ22: 0 | BA22: =ROUNDDOWN(C22*BB22,1) -> 0 | BB22: 0
A23: 0173 | B23: Hospital Consultation | C23: 15 | D23: =ROUND(E23*C23,1) -> 1129 | E23: =RCFs!C$43 -> 75.268515 | F23: =ROUNDDOWN((H23/1.039),1) -> 749.6 | G23: =F23/C23 -> 49.973333 | H23: 778.9 | I23: =H23/C23 -> 51.926667 | J23: =ROUND($C23*$I23*J$6,1) -> 856.8 | K23: =ROUND($C23*$I23*K$6,1) -> 1067.1 | L23: =ROUND($C23*$I23*L$6,1) -> 1145 | M23: =ROUND($C23*$I23*M$6,1) -> 1261.8 | N23: =ROUND($C23*$I23*N$6,1) -> 1557.8 | O23: =ROUND($C23*$I23*O$6,1) -> 1674.6 | P23: =ROUND($C23*$I23*P$6,1) -> 2336.7 | Q23: 810.3 | R23: =Q23/C23 -> 54.02 | S23: =ROUNDDOWN($Q23*S$6,1) -> 1053.3 | T23: =ROUNDDOWN($Q23*T$6,1) -> 1215.4 | U23: 735 | V23: =U23/C23 -> 49 | W23: 783 | X23: =W23/C23 -> 52.2 | Y23: =ROUNDDOWN($W23*Y$6,1) -> 861.3 | Z23: =ROUNDDOWN($W23*Z$6,1) -> 1072.7 | AA23: =ROUNDDOWN($W23*AA$6,1) -> 1268.4 | AB23: =ROUNDDOWN($W23*AB$6,1) -> 1151 | AC23: =ROUNDDOWN($W23*AC$6,1) -> 1699.1 | AD23: =ROUNDDOWN($W23*AD$6,1) -> 2349 | AE23: 803 | AF23: =AE23/C23 -> 53.533333 | AG23: =ROUND($AE23*AG$6,1) -> 1325 | AH23: =ROUND($AE23*AH$6,1) -> 1686.3 | AI23: =ROUND($AE23*AI$6,1) -> 2409 | AJ23: 755 | AK23: =AJ23/C23 -> 50.333333 | AL23: 1027.4 | AM23: =AL23/C23 -> 68.493333 | AN23: 845 | AO23: =AN23/C23 -> 56.333333 | AP23: =ROUNDDOWN($AN23*AP$6,1) -> 1267.5 | AQ23: 845.3 | AR23: =AQ23/C23 -> 56.353333 | AS23: =ROUNDDOWN($AQ23*AS$6,1) -> 1098.8 | AT23: =ROUNDDOWN($AQ23*AT$6,1) -> 1225.6 | AU23: 818.7 | AV23: =AU23/C23 -> 54.58 | AW23: 832.3 | AX23: =AW23/C23 -> 55.486667 | AZ23: =AY23/C23 -> 0 | BA23: 800.4 | BB23: =BA23/C23 -> 53.36
A24: 0174 | B24: Hospital Consultation | C24: 30 | D24: =ROUND(E24*C24,1) -> 2258.1 | E24: =RCFs!C$43 -> 75.268515 | F24: =ROUNDDOWN((H24/1.039),1) -> 749.6 | G24: =F24/C24 -> 24.986667 | H24: 778.9 | I24: =H24/C24 -> 25.963333 | J24: =ROUND($C24*$I24*J$6,1) -> 856.8 | K24: =ROUND($C24*$I24*K$6,1) -> 1067.1 | L24: =ROUND($C24*$I24*L$6,1) -> 1145 | M24: =ROUND($C24*$I24*M$6,1) -> 1261.8 | N24: =ROUND($C24*$I24*N$6,1) -> 1557.8 | O24: =ROUND($C24*$I24*O$6,1) -> 1674.6 | P24: =ROUND($C24*$I24*P$6,1) -> 2336.7 | Q24: 810.3 | R24: =Q24/C24 -> 27.01 | S24: =ROUNDDOWN($Q24*S$6,1) -> 1053.3 | T24: =ROUNDDOWN($Q24*T$6,1) -> 1215.4 | U24: 735 | V24: =U24/C24 -> 24.5 | W24: 783 | X24: =W24/C24 -> 26.1 | Y24: =ROUNDDOWN($W24*Y$6,1) -> 861.3 | Z24: =ROUNDDOWN($W24*Z$6,1) -> 1072.7 | AA24: =ROUNDDOWN($W24*AA$6,1) -> 1268.4 | AB24: =ROUNDDOWN($W24*AB$6,1) -> 1151 | AC24: =ROUNDDOWN($W24*AC$6,1) -> 1699.1 | AD24: =ROUNDDOWN($W24*AD$6,1) -> 2349 | AE24: 803 | AF24: =AE24/C24 -> 26.766667 | AG24: =ROUND($AE24*AG$6,1) -> 1325 | AH24: =ROUND($AE24*AH$6,1) -> 1686.3 | AI24: =ROUND($AE24*AI$6,1) -> 2409 | AJ24: 755 | AK24: =AJ24/C24 -> 25.166667 | AL24: 1027.4 | AM24: =AL24/C24 -> 34.246667 | AN24: 845 | AO24: =AN24/C24 -> 28.166667 | AP24: =ROUNDDOWN($AN24*AP$6,1) -> 1267.5 | AQ24: 845.3 | AR24: =AQ24/C24 -> 28.176667 | AS24: =ROUNDDOWN($AQ24*AS$6,1) -> 1098.8 | AT24: =ROUNDDOWN($AQ24*AT$6,1) -> 1225.6 | AU24: 818.7 | AV24: =AU24/C24 -> 27.29 | AW24: 832.3 | AX24: =AW24/C24 -> 27.743333 | AZ24: =AY24/C24 -> 0 | BA24: 800.4 | BB24: =BA24/C24 -> 26.68
A25: 0175 | B25: Hospital Consultation | C25: 45 | D25: =ROUND(E25*C25,1) -> 3387.1 | E25: =RCFs!C$43 -> 75.268515 | F25: =ROUNDDOWN((H25/1.039),1) -> 749.6 | G25: =F25/C25 -> 16.657778 | H25: 778.9 | I25: =H25/C25 -> 17.308889 | J25: =ROUND($C25*$I25*J$6,1) -> 856.8 | K25: =ROUND($C25*$I25*K$6,1) -> 1067.1 | L25: =ROUND($C25*$I25*L$6,1) -> 1145 | M25: =ROUND($C25*$I25*M$6,1) -> 1261.8 | N25: =ROUND($C25*$I25*N$6,1) -> 1557.8 | O25: =ROUND($C25*$I25*O$6,1) -> 1674.6 | P25: =ROUND($C25*$I25*P$6,1) -> 2336.7 | Q25: 810.3 | R25: =Q25/C25 -> 18.006667 | S25: =ROUNDDOWN($Q25*S$6,1) -> 1053.3 | T25: =ROUNDDOWN($Q25*T$6,1) -> 1215.4 | U25: 735 | V25: =U25/C25 -> 16.333333 | W25: 783 | X25: =W25/C25 -> 17.4 | Y25: =ROUNDDOWN($W25*Y$6,1) -> 861.3 | Z25: =ROUNDDOWN($W25*Z$6,1) -> 1072.7 | AA25: =ROUNDDOWN($W25*AA$6,1) -> 1268.4 | AB25: =ROUNDDOWN($W25*AB$6,1) -> 1151 | AC25: =ROUNDDOWN($W25*AC$6,1) -> 1699.1 | AD25: =ROUNDDOWN($W25*AD$6,1) -> 2349 | AE25: 803 | AF25: =AE25/C25 -> 17.844444 | AG25: =ROUND($AE25*AG$6,1) -> 1325 | AH25: =ROUND($AE25*AH$6,1) -> 1686.3 | AI25: =ROUND($AE25*AI$6,1) -> 2409 | AJ25: 755 | AK25: =AJ25/C25 -> 16.777778 | AL25: 1027.4 | AM25: =AL25/C25 -> 22.831111 | AN25: 845 | AO25: =AN25/C25 -> 18.777778 | AP25: =ROUNDDOWN($AN25*AP$6,1) -> 1267.5 | AQ25: 845.3 | AR25: =AQ25/C25 -> 18.784444 | AS25: =ROUNDDOWN($AQ25*AS$6,1) -> 1098.8 | AT25: =ROUNDDOWN($AQ25*AT$6,1) -> 1225.6 | AU25: 818.7 | AV25: =AU25/C25 -> 18.193333 | AW25: 832.3 | AX25: =AW25/C25 -> 18.495556 | AZ25: =AY25/C25 -> 0 | BA25: 800.4 | BB25: =BA25/C25 -> 17.786667
A26: 0190 | B26: Consultation | C26: 15 | D26: =ROUND(E26*C26,1) -> 1129 | E26: =RCFs!C$43 -> 75.268515 | F26: =ROUNDDOWN((H26/1.039),1) -> 749.6 | G26: =F26/C26 -> 49.973333 | H26: 778.9 | I26: =H26/C26 -> 51.926667 | J26: =ROUND($C26*$I26*J$6,1) -> 856.8 | K26: =ROUND($C26*$I26*K$6,1) -> 1067.1 | L26: =ROUND($C26*$I26*L$6,1) -> 1145 | M26: =ROUND($C26*$I26*M$6,1) -> 1261.8 | N26: =ROUND($C26*$I26*N$6,1) -> 1557.8 | O26: =ROUND($C26*$I26*O$6,1) -> 1674.6 | P26: =ROUND($C26*$I26*P$6,1) -> 2336.7 | Q26: 810.3 | R26: =Q26/C26 -> 54.02 | S26: =ROUNDDOWN($Q26*S$6,1) -> 1053.3 | T26: =ROUNDDOWN($Q26*T$6,1) -> 1215.4 | U26: 775.8 | V26: =U26/C26 -> 51.72 | W26: 826.1 | X26: =W26/C26 -> 55.073333 | Y26: =ROUNDDOWN($W26*Y$6,1) -> 908.7 | Z26: =ROUNDDOWN($W26*Z$6,1) -> 1131.7 | AA26: =ROUNDDOWN($W26*AA$6,1) -> 1338.2 | AB26: =ROUNDDOWN($W26*AB$6,1) -> 1214.3 | AC26: =ROUNDDOWN($W26*AC$6,1) -> 1792.6 | AD26: =ROUNDDOWN($W26*AD$6,1) -> 2478.3 | AE26: 803 | AF26: =AE26/C26 -> 53.533333 | AG26: =ROUND($AE26*AG$6,1) -> 1325 | AH26: =ROUND($AE26*AH$6,1) -> 1686.3 | AI26: =ROUND($AE26*AI$6,1) -> 2409 | AJ26: 762.3 | AK26: =AJ26/C26 -> 50.82 | AL26: 1075.1 | AM26: =AL26/C26 -> 71.673333 | AN26: 418.5 | AO26: =AN26/C26 -> 27.9 | AP26: =ROUNDDOWN($AN26*AP$6,1) -> 627.7 | AQ26: 845.3 | AR26: =AQ26/C26 -> 56.353333 | AS26: =ROUNDDOWN($AQ26*AS$6,1) -> 1098.8 | AT26: =ROUNDDOWN($AQ26*AT$6,1) -> 1225.6 | AU26: 818.7 | AV26: =AU26/C26 -> 54.58 | AW26: 832.3 | AX26: =AW26/C26 -> 55.486667 | AZ26: =AY26/C26 -> 0 | BA26: 800.4 | BB26: =BA26/C26 -> 53.36
A27: 0191 | B27: Consultation | C27: 30 | D27: =ROUND(E27*C27,1) -> 2258.1 | E27: =RCFs!C$43 -> 75.268515 | F27: =ROUNDDOWN((H27/1.039),1) -> 749.6 | G27: =F27/C27 -> 24.986667 | H27: 778.9 | I27: =H27/C27 -> 25.963333 | J27: =ROUND($C27*$I27*J$6,1) -> 856.8 | K27: =ROUND($C27*$I27*K$6,1) -> 1067.1 | L27: =ROUND($C27*$I27*L$6,1) -> 1145 | M27: =ROUND($C27*$I27*M$6,1) -> 1261.8 | N27: =ROUND($C27*$I27*N$6,1) -> 1557.8 | O27: =ROUND($C27*$I27*O$6,1) -> 1674.6 | P27: =ROUND($C27*$I27*P$6,1) -> 2336.7 | Q27: 810.3 | R27: =Q27/C27 -> 27.01 | S27: =ROUNDDOWN($Q27*S$6,1) -> 1053.3 | T27: =ROUNDDOWN($Q27*T$6,1) -> 1215.4 | U27: 775.8 | V27: =U27/C27 -> 25.86 | W27: 826.1 | X27: =W27/C27 -> 27.536667 | Y27: =ROUNDDOWN($W27*Y$6,1) -> 908.7 | Z27: =ROUNDDOWN($W27*Z$6,1) -> 1131.7 | AA27: =ROUNDDOWN($W27*AA$6,1) -> 1338.2 | AB27: =ROUNDDOWN($W27*AB$6,1) -> 1214.3 | AC27: =ROUNDDOWN($W27*AC$6,1) -> 1792.6 | AD27: =ROUNDDOWN($W27*AD$6,1) -> 2478.3 | AE27: 803 | AF27: =AE27/C27 -> 26.766667 | AG27: =ROUND($AE27*AG$6,1) -> 1325 | AH27: =ROUND($AE27*AH$6,1) -> 1686.3 | AI27: =ROUND($AE27*AI$6,1) -> 2409 | AJ27: 762.3 | AK27: =AJ27/C27 -> 25.41 | AL27: 1075.1 | AM27: =AL27/C27 -> 35.836667 | AN27: 845 | AO27: =AN27/C27 -> 28.166667 | AP27: =ROUNDDOWN($AN27*AP$6,1) -> 1267.5 | AQ27: 845.3 | AR27: =AQ27/C27 -> 28.176667 | AS27: =ROUNDDOWN($AQ27*AS$6,1) -> 1098.8 | AT27: =ROUNDDOWN($AQ27*AT$6,1) -> 1225.6 | AU27: 818.7 | AV27: =AU27/C27 -> 27.29 | AW27: 832.3 | AX27: =AW27/C27 -> 27.743333 | AZ27: =AY27/C27 -> 0 | BA27: 800.4 | BB27: =BA27/C27 -> 26.68
A28: 0192 | B28: Consultation | C28: 45 | D28: =ROUND(E28*C28,1) -> 3387.1 | E28: =RCFs!C$43 -> 75.268515 | F28: =ROUNDDOWN((H28/1.039),1) -> 749.6 | G28: =F28/C28 -> 16.657778 | H28: 778.9 | I28: =H28/C28 -> 17.308889 | J28: =ROUND($C28*$I28*J$6,1) -> 856.8 | K28: =ROUND($C28*$I28*K$6,1) -> 1067.1 | L28: =ROUND($C28*$I28*L$6,1) -> 1145 | M28: =ROUND($C28*$I28*M$6,1) -> 1261.8 | N28: =ROUND($C28*$I28*N$6,1) -> 1557.8 | O28: =ROUND($C28*$I28*O$6,1) -> 1674.6 | P28: =ROUND($C28*$I28*P$6,1) -> 2336.7 | Q28: 810.3 | R28: =Q28/C28 -> 18.006667 | S28: =ROUNDDOWN($Q28*S$6,1) -> 1053.3 | T28: =ROUNDDOWN($Q28*T$6,1) -> 1215.4 | U28: 775.8 | V28: =U28/C28 -> 17.24 | W28: 826.1 | X28: =W28/C28 -> 18.357778 | Y28: =ROUNDDOWN($W28*Y$6,1) -> 908.7 | Z28: =ROUNDDOWN($W28*Z$6,1) -> 1131.7 | AA28: =ROUNDDOWN($W28*AA$6,1) -> 1338.2 | AB28: =ROUNDDOWN($W28*AB$6,1) -> 1214.3 | AC28: =ROUNDDOWN($W28*AC$6,1) -> 1792.6 | AD28: =ROUNDDOWN($W28*AD$6,1) -> 2478.3 | AE28: 803 | AF28: =AE28/C28 -> 17.844444 | AG28: =ROUND($AE28*AG$6,1) -> 1325 | AH28: =ROUND($AE28*AH$6,1) -> 1686.3 | AI28: =ROUND($AE28*AI$6,1) -> 2409 | AJ28: 762.3 | AK28: =AJ28/C28 -> 16.94 | AL28: 1075.1 | AM28: =AL28/C28 -> 23.891111 | AN28: 845 | AO28: =AN28/C28 -> 18.777778 | AP28: =ROUNDDOWN($AN28*AP$6,1) -> 1267.5 | AQ28: 845.3 | AR28: =AQ28/C28 -> 18.784444 | AS28: =ROUNDDOWN($AQ28*AS$6,1) -> 1098.8 | AT28: =ROUNDDOWN($AQ28*AT$6,1) -> 1225.6 | AU28: 818.7 | AV28: =AU28/C28 -> 18.193333 | AW28: 832.3 | AX28: =AW28/C28 -> 18.495556 | AZ28: =AY28/C28 -> 0 | BA28: 800.4 | BB28: =BA28/C28 -> 17.786667
A29: 0193 | B29: Consultation | C29: 63.6 | D29: =ROUND(E29*C29,1) -> 4787.1 | E29: =RCFs!C$43 -> 75.268515 | F29: =ROUNDDOWN((H29/1.039),1) -> 749.6 | G29: =F29/C29 -> 11.786164 | H29: 778.9 | I29: =H29/C29 -> 12.246855 | J29: =ROUND($C29*$I29*J$6,1) -> 856.8 | K29: =ROUND($C29*$I29*K$6,1) -> 1067.1 | L29: =ROUND($C29*$I29*L$6,1) -> 1145 | M29: =ROUND($C29*$I29*M$6,1) -> 1261.8 | N29: =ROUND($C29*$I29*N$6,1) -> 1557.8 | O29: =ROUND($C29*$I29*O$6,1) -> 1674.6 | P29: =ROUND($C29*$I29*P$6,1) -> 2336.7 | Q29: =Q28 -> 810.3 | R29: =Q29/C29 -> 12.740566 | S29: =ROUNDDOWN($Q29*S$6,1) -> 1053.3 | T29: =ROUNDDOWN($Q29*T$6,1) -> 1215.4 | U29: 775.8 | V29: =U29/C29 -> 12.198113 | W29: 826.1 | X29: =W29/C29 -> 12.988994 | Y29: =ROUNDDOWN($W29*Y$6,1) -> 908.7 | Z29: =ROUNDDOWN($W29*Z$6,1) -> 1131.7 | AA29: =ROUNDDOWN($W29*AA$6,1) -> 1338.2 | AB29: =ROUNDDOWN($W29*AB$6,1) -> 1214.3 | AC29: =ROUNDDOWN($W29*AC$6,1) -> 1792.6 | AD29: =ROUNDDOWN($W29*AD$6,1) -> 2478.3 | AE29: =AE28 -> 803 | AF29: =AE29/C29 -> 12.625786 | AG29: =ROUND($AE29*AG$6,1) -> 1325 | AH29: =ROUND($AE29*AH$6,1) -> 1686.3 | AI29: =ROUND($AE29*AI$6,1) -> 2409 | AJ29: 762.3 | AK29: =AJ29/C29 -> 11.985849 | AL29: 1075.1 | AM29: =AL29/C29 -> 16.904088 | AN29: 845 | AO29: =AN29/C29 -> 13.286164 | AP29: =ROUNDDOWN($AN29*AP$6,1) -> 1267.5 | AQ29: =AQ28 -> 845.3 | AR29: =AQ29/C29 -> 13.290881 | AS29: =ROUNDDOWN($AQ29*AS$6,1) -> 1098.8 | AT29: =ROUNDDOWN($AQ29*AT$6,1) -> 1225.6 | AU29: 818.7 | AV29: =AU29/C29 -> 12.872642 | AW29: 2035.9 | AX29: =AW29/C29 -> 32.011006 | AZ29: =AY29/C29 -> 0 | BA29: 800.4 | BB29: =BA29/C29 -> 12.584906
A30: 0199 | B30: Chronic Medicine Forms | C30: 21.43 | D30: =ROUND(E30*C30,1) -> 1613 | E30: =RCFs!C$43 -> 75.268515 | F30: =ROUNDDOWN((H30/1.039),1) -> 618.4 | G30: =F30/C30 -> 28.856743 | H30: 642.6 | I30: =H30/C30 -> 29.986001 | J30: =ROUND($C30*$I30*J$6,1) -> 706.9 | K30: =ROUND($C30*$I30*K$6,1) -> 880.4 | L30: =ROUND($C30*$I30*L$6,1) -> 944.6 | M30: =ROUND($C30*$I30*M$6,1) -> 1041 | N30: =ROUND($C30*$I30*N$6,1) -> 1285.2 | O30: =ROUND($C30*$I30*O$6,1) -> 1381.6 | P30: =ROUND($C30*$I30*P$6,1) -> 1927.8 | Q30: 668.1 | R30: =Q30/C30 -> 31.175922 | S30: =ROUNDDOWN($Q30*S$6,1) -> 868.5 | T30: =ROUNDDOWN($Q30*T$6,1) -> 1002.1 | U30: 604.5 | V30: =U30/C30 -> 28.208119 | W30: 643.9 | X30: =W30/C30 -> 30.046664 | Y30: =$W$30 -> 643.9 | Z30: =$W$30 -> 643.9 | AA30: =$W$30 -> 643.9 | AB30: =$W$30 -> 643.9 | AC30: =$W$30 -> 643.9 | AD30: =$W$30 -> 643.9 | AE30: 662.4 | AF30: =AE30/C30 -> 30.909939 | AG30: =ROUND($AE30*AG$6,1) -> 1093 | AH30: =ROUND($AE30*AH$6,1) -> 1391 | AI30: =ROUND($AE30*AI$6,1) -> 1987.2 | AJ30: 562.1 | AK30: =AJ30/C30 -> 26.229585 | AL30: 764.5 | AM30: =AL30/C30 -> 35.674288 | AN30: 696.3 | AO30: =AN30/C30 -> 32.491834 | AP30: =ROUNDDOWN($AN30*AP$6,1) -> 1044.4 | AQ30: 697 | AR30: =AQ30/C30 -> 32.524498 | AS30: =ROUNDDOWN($AQ30*AS$6,1) -> 906.1 | AT30: =ROUNDDOWN($AQ30*AT$6,1) -> 1010.6 | AU30: 818.7 | AV30: =AU30/C30 -> 38.203453 | AW30: 686 | AX30: =AW30/C30 -> 32.011199 | AZ30: =AY30/C30 -> 0 | BA30: =ROUNDDOWN(C30*BB30,1) -> 659.8 | BB30: =RCFs!I$41 -> 30.791
A31: CAS18 | B31: Casualty Evaluation Code (Executive & Classic Plans) | C31: 0 | D31: 0 | E31: 0 | F31: 0 | G31: 0 | H31: 0 | I31: 0 | J31: =ROUND($C31*$I31*J$6,1) -> 0 | K31: =ROUND($C31*$I31*K$6,1) -> 0 | L31: =ROUND($C31*$I31*L$6,1) -> 0 | M31: 0 | N31: 0 | O31: 0 | P31: 0 | Q31: 0 | R31: 0 | S31: =ROUNDDOWN($Q31*S$6,1) -> 0 | T31: =ROUNDDOWN($Q31*T$6,1) -> 0 | U31: 0 | V31: 0 | W31: 0 | X31: 0 | Y31: n/a | Z31: =2205.8*1.038 -> 2289.6204 | AA31: n/a | AB31: 2465.9 | AC31: 3626.6 | AD31: 3626.6 | AE31: 0 | AF31: 0 | AG31: 0 | AH31: 0 | AI31: 0 | AJ31: 0 | AK31: 0 | AL31: 0 | AM31: 0 | AN31: 0 | AO31: 0 | AP31: 0 | AQ31: 0 | AR31: 0 | AS31: 0 | AT31: 0 | AU31: 0 | AV31: 0 | AY31: 0 | AZ31: 0 | BA31: 0 | BB31: 0
A32: CAS18 | B32: Casualty Evaluation Code (Excl. Executive & Classic Plans) | C32: 0 | D32: 0 | E32: 0 | F32: 0 | G32: 0 | H32: 0 | I32: 0 | J32: =ROUND($C32*$I32*J$6,1) -> 0 | K32: =ROUND($C32*$I32*K$6,1) -> 0 | L32: =ROUND($C32*$I32*L$6,1) -> 0 | M32: 0 | N32: 0 | O32: 0 | P32: 0 | Q32: 0 | R32: 0 | S32: =ROUNDDOWN($Q32*S$6,1) -> 0 | T32: =ROUNDDOWN($Q32*T$6,1) -> 0 | U32: 0 | V32: 0 | W32: 0 | X32: 0 | Y32: 1835.5 | Z32: =2205.8*1.038 -> 2289.6204 | AA32: n/a | AB32: 2465.9 | AC32: 1671.4 | AD32: n/a | AE32: 0 | AF32: 0 | AG32: 0 | AH32: 0 | AI32: 0 | AJ32: 0 | AK32: 0 | AL32: 0 | AM32: 0 | AN32: 0 | AO32: 0 | AP32: 0 | AQ32: 0 | AR32: 0 | AS32: 0 | AT32: 0 | AU32: 0 | AV32: 0 | AY32: 0 | AZ32: 0 | BA32: 0 | BB32: 0
A33: HDM1 | B33: Hospital Discharge Management Code (instead of 0109) (Executive & Classic Plans) | C33: 0 | D33: 0 | E33: 0 | F33: 0 | G33: 0 | H33: 0 | I33: 0 | J33: =ROUND($C33*$I33*J$6,1) -> 0 | K33: =ROUND($C33*$I33*K$6,1) -> 0 | L33: =ROUND($C33*$I33*L$6,1) -> 0 | M33: 0 | N33: 0 | O33: 0 | P33: 0 | Q33: 0 | R33: 0 | S33: =ROUNDDOWN($Q33*S$6,1) -> 0 | T33: =ROUNDDOWN($Q33*T$6,1) -> 0 | U33: 0 | V33: 0 | W33: 0 | X33: 0 | Y33: n/a | Z33: 884.8 | AA33: n/a | AB33: 949.7 | AC33: 1401.3 | AD33: 1401.3 | AE33: 0 | AF33: 0 | AG33: 0 | AH33: 0 | AI33: 0 | AJ33: 0 | AK33: 0 | AL33: 0 | AM33: 0 | AN33: 0 | AO33: 0 | AP33: 0 | AQ33: 0 | AR33: 0 | AS33: 0 | AT33: 0 | AU33: 0 | AV33: 0 | AY33: 0 | AZ33: 0 | BA33: 0 | BB33: 0
A34: HDM1 | B34: Hospital Discharge Management Code (instead of 0109) (Excl. Executive & Classic Plans) | C34: 0 | D34: 0 | E34: 0 | F34: 0 | G34: 0 | H34: 0 | I34: 0 | J34: =ROUND($C34*$I34*J$6,1) -> 0 | K34: =ROUND($C34*$I34*K$6,1) -> 0 | L34: =ROUND($C34*$I34*L$6,1) -> 0 | M34: 0 | N34: 0 | O34: 0 | P34: 0 | Q34: 0 | R34: 0 | S34: =ROUNDDOWN($Q34*S$6,1) -> 0 | T34: =ROUNDDOWN($Q34*T$6,1) -> 0 | U34: 0 | V34: 0 | W34: 0 | X34: 0 | Y34: 710.4 | Z34: 884.8 | AA34: n/a | AB34: 949.7 | AC34: 651.1 | AD34: n/a | AE34: 0 | AF34: 0 | AG34: 0 | AH34: 0 | AI34: 0 | AJ34: 0 | AK34: 0 | AL34: 0 | AM34: 0 | AN34: 0 | AO34: 0 | AP34: 0 | AQ34: 0 | AR34: 0 | AS34: 0 | AT34: 0 | AU34: 0 | AV34: 0 | AY34: 0 | AZ34: 0 | BA34: 0 | BB34: 0
A35: 99238 | B35: Hospital discharge day Management; 30 Minutes or Less | C35: 2.06 | D35: 0 | E35: 0 | F35: 0 | G35: 0 | H35: 0 | I35: 0 | J35: =ROUND($C35*$I35*J$6,1) -> 0 | K35: =ROUND($C35*$I35*K$6,1) -> 0 | L35: =ROUND($C35*$I35*L$6,1) -> 0 | M35: 0 | N35: 0 | O35: 0 | P35: 0 | Q35: 0 | R35: =Q35/C35 -> 0 | S35: =ROUNDDOWN($Q35*S$6,1) -> 0 | T35: =ROUNDDOWN($Q35*T$6,1) -> 0 | U35: 0 | V35: =U35/C35 -> 0 | W35: 0 | X35: 0 | Y35: 0 | Z35: 0 | AA35: 0 | AB35: 0 | AC35: 0 | AD35: 0 | AE35: 0 | AF35: 0 | AG35: 0 | AH35: 0 | AI35: 0 | AJ35: 0 | AK35: 0 | AL35: 0 | AM35: 0 | AN35: 0 | AO35: 0 | AP35: 0 | AQ35: 0 | AR35: 0 | AS35: 0 | AT35: 0 | AU35: 0 | AV35: 0 | AZ35: =AY35/C35 -> 0 | BA35: 0 | BB35: 0
A36: 99239 | B36: Hospital discharge day Management; more than 30 Minutes | C36: 3.05 | D36: 0 | E36: 0 | F36: 0 | G36: 0 | H36: 0 | I36: 0 | J36: =ROUND($C36*$I36*J$6,1) -> 0 | K36: =ROUND($C36*$I36*K$6,1) -> 0 | L36: =ROUND($C36*$I36*L$6,1) -> 0 | M36: 0 | N36: 0 | O36: 0 | P36: 0 | Q36: 0 | R36: =Q36/C36 -> 0 | S36: =ROUNDDOWN($Q36*S$6,1) -> 0 | T36: =ROUNDDOWN($Q36*T$6,1) -> 0 | U36: 0 | V36: =U36/C36 -> 0 | W36: 0 | X36: 0 | Y36: 0 | Z36: 0 | AA36: 0 | AB36: 0 | AC36: 0 | AD36: 0 | AE36: 0 | AF36: 0 | AG36: 0 | AH36: 0 | AI36: 0 | AJ36: 0 | AK36: 0 | AL36: 0 | AM36: 0 | AN36: 0 | AO36: 0 | AP36: 0 | AQ36: 0 | AR36: 0 | AS36: 0 | AT36: 0 | AU36: 0 | AV36: 0 | AZ36: =AY36/C36 -> 0 | BA36: 0 | BB36: 0
B38: Procedures
A40: 206 | B40: Intravenous treatment: Intravenous infusions (push-in) : Insertion of cannula - chargeable once per 24-hours | C40: 6 | D40: =ROUND(E40*C40,1) -> 451.6 | E40: =RCFs!C$43 -> 75.268515 | F40: =ROUNDDOWN($C40*G40,1) -> 111.3 | G40: =RCFs!C$5 -> 18.56 | H40: =ROUNDDOWN($C40*I40,1) -> 111.3 | I40: =RCFs!C$5 -> 18.56 | J40: =ROUND($C40*$I40*J$6,1) -> 122.5 | K40: =ROUND($C40*$I40*K$6,1) -> 152.6 | L40: =ROUND($C40*$I40*L$6,1) -> 163.7 | M40: =ROUND($C40*$I40*M$6,1) -> 180.4 | N40: =ROUND($C40*$I40*N$6,1) -> 222.7 | O40: =ROUND($C40*$I40*O$6,1) -> 239.4 | P40: =ROUND($C40*$I40*P$6,1) -> 334.1 | Q40: =ROUNDDOWN(R40*C40,1) -> 115.8 | R40: =RCFs!C$7 -> 19.303333 | S40: =ROUNDDOWN($Q40*S$6,1) -> 150.5 | T40: =ROUNDDOWN($Q40*T$6,1) -> 173.7 | U40: =ROUND(V40*C40,1) -> 110.5 | V40: =RCFs!C$9 -> 18.423 | W40: =ROUND(X40*C40,1) -> 110.5 | X40: =V40 -> 18.423 | Y40: =ROUNDDOWN($W40*Y$6,1) -> 121.5 | Z40: =ROUND($C40*$X40*Z$6,1) -> 151.4 | AA40: =ROUND($C40*$X40*AA$6,1) -> 179.1 | AB40: =ROUND($C40*$X40*AB$6,1) -> 162.5 | AC40: =ROUND($C40*$X40*AC$6,1) -> 239.9 | AD40: =ROUND($C40*$X40*AD$6,1) -> 331.6 | AE40: =ROUND(AF40*C40,1) -> 114.8 | AF40: =RCFs!C$13 -> 19.133333 | AG40: =ROUND($AE40*AG$6,1) -> 189.4 | AH40: =ROUND($AE40*AH$6,1) -> 241.1 | AI40: =ROUND($AE40*AI$6,1) -> 344.4 | AJ40: =ROUNDDOWN(C40*AK40,1) -> 113.6 | AK40: =RCFs!C$25 -> 18.946667 | AL40: =ROUNDDOWN(C40*AM40,1) -> 150.5 | AM40: =RCFs!C$29 -> 25.093333 | AN40: =ROUNDDOWN(C40*AO40,1) -> 120.7 | AO40: =RCFs!C$33 -> 20.121274 | AP40: =ROUNDDOWN(AN40*AP$6,1) -> 181 | AQ40: =ROUNDDOWN($C40*AR40,1) -> 157.1 | AR40: =RCFs!C$35 -> 26.19 | AS40: =ROUNDDOWN(AQ40*AS$6,1) -> 204.2 | AT40: =ROUNDDOWN(AR40*AT$6,1) -> 37.9 | AU40: =ROUNDDOWN($C40*AV40,1) -> 116.9 | AV40: =RCFs!C$37 -> 19.486667 | AW40: =ROUNDDOWN(AX40*C40,1) -> 118.9 | AX40: =RCFs!C$64 -> 19.826667 | AY40: =ROUNDDOWN($C40*AZ40,1) -> 113.6 | AZ40: =RCFs!C$39 -> 18.946667 | BA40: =ROUNDDOWN($C40*BB40,1) -> 114.4 | BB40: =RCFs!C$41 -> 19.068115
A41: 211 | B41: Exchange transfusion: First and subsequent (including aftercare) | C41: 80 | D41: =ROUND(E41*C41,1) -> 6021.5 | E41: =RCFs!C$43 -> 75.268515 | F41: =ROUNDDOWN($C41*G41,1) -> 1484.8 | G41: =RCFs!C$5 -> 18.56 | H41: =ROUNDDOWN($C41*I41,1) -> 1484.8 | I41: =RCFs!C$5 -> 18.56 | J41: =ROUND($C41*$I41*J$6,1) -> 1633.3 | K41: =ROUND($C41*$I41*K$6,1) -> 2034.2 | L41: =ROUND($C41*$I41*L$6,1) -> 2182.7 | M41: =ROUND($C41*$I41*M$6,1) -> 2405.4 | N41: =ROUND($C41*$I41*N$6,1) -> 2969.6 | O41: =ROUND($C41*$I41*O$6,1) -> 3192.3 | P41: =ROUND($C41*$I41*P$6,1) -> 4454.4 | Q41: =ROUNDDOWN(R41*C41,1) -> 1544.2 | R41: =RCFs!C$7 -> 19.303333 | S41: =ROUNDDOWN($Q41*S$6,1) -> 2007.4 | T41: =ROUNDDOWN($Q41*T$6,1) -> 2316.3 | U41: =ROUND(V41*C41,1) -> 1473.8 | V41: =RCFs!C$9 -> 18.423 | W41: =ROUND(X41*C41,1) -> 1473.8 | X41: =V41 -> 18.423 | Y41: =ROUNDDOWN($W41*Y$6,1) -> 1621.1 | Z41: =ROUND($C41*$X41*Z$6,1) -> 2019.2 | AA41: =ROUND($C41*$X41*AA$6,1) -> 2387.6 | AB41: =ROUND($C41*$X41*AB$6,1) -> 2166.5 | AC41: =ROUND($C41*$X41*AC$6,1) -> 3198.2 | AD41: =ROUND($C41*$X41*AD$6,1) -> 4421.5 | AE41: =ROUND(AF41*C41,1) -> 1530.7 | AF41: =RCFs!C$13 -> 19.133333 | AG41: =ROUND($AE41*AG$6,1) -> 2525.7 | AH41: =ROUND($AE41*AH$6,1) -> 3214.5 | AI41: =ROUND($AE41*AI$6,1) -> 4592.1 | AJ41: =ROUNDDOWN(C41*AK41,1) -> 1515.7 | AK41: =RCFs!C$25 -> 18.946667 | AL41: =ROUNDDOWN(C41*AM41,1) -> 2007.4 | AM41: =RCFs!C$29 -> 25.093333 | AN41: =ROUNDDOWN(C41*AO41,1) -> 1609.7 | AO41: =RCFs!C$33 -> 20.121274 | AP41: =ROUNDDOWN(AN41*AP$6,1) -> 2414.5 | AQ41: =ROUNDDOWN($C41*AR41,1) -> 2095.2 | AR41: =RCFs!C$35 -> 26.19 | AS41: =ROUNDDOWN(AQ41*AS$6,1) -> 2723.7 | AT41: =ROUNDDOWN(AR41*AT$6,1) -> 37.9 | AU41: =ROUNDDOWN($C41*AV41,1) -> 1558.9 | AV41: =RCFs!C$37 -> 19.486667 | AW41: =ROUNDDOWN(AX41*C41,1) -> 1586.1 | AX41: =RCFs!C$64 -> 19.826667 | AY41: =ROUNDDOWN($C41*AZ41,1) -> 1515.7 | AZ41: =RCFs!C$39 -> 18.946667 | BA41: =ROUNDDOWN($C41*BB41,1) -> 1525.4 | BB41: =RCFs!C$41 -> 19.068115
A42: 1186 | B42: Flow volume test: Inspiration/expiration | C42: 30 | D42: =ROUND(E42*C42,1) -> 2258.1 | E42: =RCFs!C$43 -> 75.268515 | F42: =ROUNDDOWN($C42*G42,1) -> 556.8 | G42: =RCFs!C$5 -> 18.56 | H42: =ROUNDDOWN($C42*I42,1) -> 556.8 | I42: =RCFs!C$5 -> 18.56 | J42: =ROUND($C42*$I42*J$6,1) -> 612.5 | K42: =ROUND($C42*$I42*K$6,1) -> 762.8 | L42: =ROUND($C42*$I42*L$6,1) -> 818.5 | M42: =ROUND($C42*$I42*M$6,1) -> 902 | N42: =ROUND($C42*$I42*N$6,1) -> 1113.6 | O42: =ROUND($C42*$I42*O$6,1) -> 1197.1 | P42: =ROUND($C42*$I42*P$6,1) -> 1670.4 | Q42: =ROUNDDOWN(R42*C42,1) -> 579.1 | R42: =RCFs!C$7 -> 19.303333 | S42: =ROUNDDOWN($Q42*S$6,1) -> 752.8 | T42: =ROUNDDOWN($Q42*T$6,1) -> 868.6 | U42: =ROUND(V42*C42,1) -> 552.7 | V42: =RCFs!C$9 -> 18.423 | W42: =ROUND(X42*C42,1) -> 552.7 | X42: =V42 -> 18.423 | Y42: =ROUNDDOWN($W42*Y$6,1) -> 607.9 | Z42: =ROUND($C42*$X42*Z$6,1) -> 757.2 | AA42: =ROUND($C42*$X42*AA$6,1) -> 895.4 | AB42: =ROUND($C42*$X42*AB$6,1) -> 812.5 | AC42: =ROUND($C42*$X42*AC$6,1) -> 1199.3 | AD42: =ROUND($C42*$X42*AD$6,1) -> 1658.1 | AE42: =ROUND(AF42*C42,1) -> 574 | AF42: =RCFs!C$13 -> 19.133333 | AG42: =ROUND($AE42*AG$6,1) -> 947.1 | AH42: =ROUND($AE42*AH$6,1) -> 1205.4 | AI42: =ROUND($AE42*AI$6,1) -> 1722 | AJ42: =ROUNDDOWN(C42*AK42,1) -> 568.4 | AK42: =RCFs!C$25 -> 18.946667 | AL42: =ROUNDDOWN(C42*AM42,1) -> 752.8 | AM42: =RCFs!C$29 -> 25.093333 | AN42: =ROUNDDOWN(C42*AO42,1) -> 603.6 | AO42: =RCFs!C$33 -> 20.121274 | AP42: =ROUNDDOWN(AN42*AP$6,1) -> 905.4 | AQ42: =ROUNDDOWN($C42*AR42,1) -> 785.7 | AR42: =RCFs!C$35 -> 26.19 | AS42: =ROUNDDOWN(AQ42*AS$6,1) -> 1021.4 | AT42: =ROUNDDOWN(AR42*AT$6,1) -> 37.9 | AU42: =ROUNDDOWN($C42*AV42,1) -> 584.6 | AV42: =RCFs!C$37 -> 19.486667 | AW42: =ROUNDDOWN(AX42*C42,1) -> 594.8 | AX42: =RCFs!C$64 -> 19.826667 | AY42: =ROUNDDOWN($C42*AZ42,1) -> 568.4 | AZ42: =RCFs!C$39 -> 18.946667 | BA42: =ROUNDDOWN($C42*BB42,1) -> 572 | BB42: =RCFs!C$41 -> 19.068115
A43: 1188 | B43: Flow volume test: Inspiration/expiration/pre- and post bronchodilator | C43: 50 | D43: =ROUND(E43*C43,1) -> 3763.4 | E43: =RCFs!C$43 -> 75.268515 | F43: =ROUNDDOWN($C43*G43,1) -> 928 | G43: =RCFs!C$5 -> 18.56 | H43: =ROUNDDOWN($C43*I43,1) -> 928 | I43: =RCFs!C$5 -> 18.56 | J43: =ROUND($C43*$I43*J$6,1) -> 1020.8 | K43: =ROUND($C43*$I43*K$6,1) -> 1271.4 | L43: =ROUND($C43*$I43*L$6,1) -> 1364.2 | M43: =ROUND($C43*$I43*M$6,1) -> 1503.4 | N43: =ROUND($C43*$I43*N$6,1) -> 1856 | O43: =ROUND($C43*$I43*O$6,1) -> 1995.2 | P43: =ROUND($C43*$I43*P$6,1) -> 2784 | Q43: =ROUNDDOWN(R43*C43,1) -> 965.1 | R43: =RCFs!C$7 -> 19.303333 | S43: =ROUNDDOWN($Q43*S$6,1) -> 1254.6 | T43: =ROUNDDOWN($Q43*T$6,1) -> 1447.6 | U43: =ROUND(V43*C43,1) -> 921.2 | V43: =RCFs!C$9 -> 18.423 | W43: =ROUND(X43*C43,1) -> 921.2 | X43: =V43 -> 18.423 | Y43: =ROUNDDOWN($W43*Y$6,1) -> 1013.3 | Z43: =ROUND($C43*$X43*Z$6,1) -> 1262 | AA43: =ROUND($C43*$X43*AA$6,1) -> 1492.3 | AB43: =ROUND($C43*$X43*AB$6,1) -> 1354.1 | AC43: =ROUND($C43*$X43*AC$6,1) -> 1998.9 | AD43: =ROUND($C43*$X43*AD$6,1) -> 2763.5 | AE43: =ROUND(AF43*C43,1) -> 956.7 | AF43: =RCFs!C$13 -> 19.133333 | AG43: =ROUND($AE43*AG$6,1) -> 1578.6 | AH43: =ROUND($AE43*AH$6,1) -> 2009.1 | AI43: =ROUND($AE43*AI$6,1) -> 2870.1 | AJ43: =ROUNDDOWN(C43*AK43,1) -> 947.3 | AK43: =RCFs!C$25 -> 18.946667 | AL43: =ROUNDDOWN(C43*AM43,1) -> 1254.6 | AM43: =RCFs!C$29 -> 25.093333 | AN43: =ROUNDDOWN(C43*AO43,1) -> 1006 | AO43: =RCFs!C$33 -> 20.121274 | AP43: =ROUNDDOWN(AN43*AP$6,1) -> 1509 | AQ43: =ROUNDDOWN($C43*AR43,1) -> 1309.5 | AR43: =RCFs!C$35 -> 26.19 | AS43: =ROUNDDOWN(AQ43*AS$6,1) -> 1702.3 | AT43: =ROUNDDOWN(AR43*AT$6,1) -> 37.9 | AU43: =ROUNDDOWN($C43*AV43,1) -> 974.3 | AV43: =RCFs!C$37 -> 19.486667 | AW43: =ROUNDDOWN(AX43*C43,1) -> 991.3 | AX43: =RCFs!C$64 -> 19.826667 | AY43: =ROUNDDOWN($C43*AZ43,1) -> 947.3 | AZ43: =RCFs!C$39 -> 18.946667 | BA43: =ROUNDDOWN($C43*BB43,1) -> 953.4 | BB43: =RCFs!C$41 -> 19.068115
A44: 1193 | B44: Functional residual capacity or residual volume: Helium method, nitrogen open circuit method or other method | C44: 37.76 | D44: =ROUND(E44*C44,1) -> 2842.1 | E44: =RCFs!C$43 -> 75.268515 | F44: =ROUNDDOWN($C44*G44,1) -> 700.8 | G44: =RCFs!C$5 -> 18.56 | H44: =ROUNDDOWN($C44*I44,1) -> 700.8 | I44: =RCFs!C$5 -> 18.56 | J44: =ROUND($C44*$I44*J$6,1) -> 770.9 | K44: =ROUND($C44*$I44*K$6,1) -> 960.1 | L44: =ROUND($C44*$I44*L$6,1) -> 1030.2 | M44: =ROUND($C44*$I44*M$6,1) -> 1135.3 | N44: =ROUND($C44*$I44*N$6,1) -> 1401.7 | O44: =ROUND($C44*$I44*O$6,1) -> 1506.8 | P44: =ROUND($C44*$I44*P$6,1) -> 2102.5 | Q44: =ROUNDDOWN(R44*C44,1) -> 728.8 | R44: =RCFs!C$7 -> 19.303333 | S44: =ROUNDDOWN($Q44*S$6,1) -> 947.4 | T44: =ROUNDDOWN($Q44*T$6,1) -> 1093.2 | U44: =ROUND(V44*C44,1) -> 695.7 | V44: =RCFs!C$9 -> 18.423 | W44: =ROUND(X44*C44,1) -> 695.7 | X44: =V44 -> 18.423 | Y44: =ROUNDDOWN($W44*Y$6,1) -> 765.2 | Z44: =ROUND($C44*$X44*Z$6,1) -> 953 | AA44: =ROUND($C44*$X44*AA$6,1) -> 1127 | AB44: =ROUND($C44*$X44*AB$6,1) -> 1022.6 | AC44: =ROUND($C44*$X44*AC$6,1) -> 1509.6 | AD44: =ROUND($C44*$X44*AD$6,1) -> 2087 | AE44: =ROUND(AF44*C44,1) -> 722.5 | AF44: =RCFs!C$13 -> 19.133333 | AG44: =ROUND($AE44*AG$6,1) -> 1192.1 | AH44: =ROUND($AE44*AH$6,1) -> 1517.3 | AI44: =ROUND($AE44*AI$6,1) -> 2167.5 | AJ44: =ROUNDDOWN(C44*AK44,1) -> 715.4 | AK44: =RCFs!C$25 -> 18.946667 | AL44: =ROUNDDOWN(C44*AM44,1) -> 947.5 | AM44: =RCFs!C$29 -> 25.093333 | AN44: =ROUNDDOWN(C44*AO44,1) -> 759.7 | AO44: =RCFs!C$33 -> 20.121274 | AP44: =ROUNDDOWN(AN44*AP$6,1) -> 1139.5 | AQ44: =ROUNDDOWN($C44*AR44,1) -> 988.9 | AR44: =RCFs!C$35 -> 26.19 | AS44: =ROUNDDOWN(AQ44*AS$6,1) -> 1285.5 | AT44: =ROUNDDOWN(AR44*AT$6,1) -> 37.9 | AU44: =ROUNDDOWN($C44*AV44,1) -> 735.8 | AV44: =RCFs!C$37 -> 19.486667 | AW44: =ROUNDDOWN(AX44*C44,1) -> 748.6 | AX44: =RCFs!C$64 -> 19.826667 | AY44: =ROUNDDOWN($C44*AZ44,1) -> 715.4 | AZ44: =RCFs!C$39 -> 18.946667 | BA44: =ROUNDDOWN($C44*BB44,1) -> 720 | BB44: =RCFs!C$41 -> 19.068115
...

Sheet RCFs
A1: Code/Scheme | C1: 1204 | D1: 3604 | E1: 4076 | F1: 3620 | G1: 0017 | H1: 4561 | I1: Conults | J1: GP Consults | K1: 2614 (New) | L1: 2615 (New) | M1: MPS (Obs Potrion) | N1: Ave Deliveies p/a | O1: Schem Units 2614 | P1: Schem Units 2615 | Q1: SAMA Units 2614 | R1: SAMA Units 2615 | S1: Unique ICU RCF
A2: Units --> | C2: 30 | D2: 77 | E2: 19.1 | F2: 50 | G2: 7.5 | H2: 8.9 (GP) /13.4 (S)
C3: Clin. Pro | D3: Radiology | E3: Clin. Path | F3: Ultra | H3: Anat. Cy
A4: Bankmed | B4: 2025 | C4: 18.315 | D4: 25.947 | E4: 20.088 | F4: 17.457 | H4: 23.162
A5: Bankmed | B5: 2026 | C5: =556.8/C2 -> 18.56 | D5: 26.933 | E5: 20.711 | F5: 18.12 | H5: 23.88
A6: Bonitas - Network | B6: 2025 | C6: 18.56 | D6: 26.293506 | F6: 17.694 | G6: 29.986667
A7: Bonitas - Network | B7: 2026 | C7: =579.1/C2 -> 19.303333 | D7: =2105.6/D2 -> 27.345455 | F7: =920.1/F2 -> 18.402 | G7: =233.9/G2 -> 31.186667
A8: Discovery | B8: 2025 | C8: 17.749 | D8: 25.145 | E8: 19.944 | F8: 16.92 | H8: 23
A9: Discovery | B9: 2026 | C9: 18.423 | D9: 26.101 | E9: 20.702 | F9: 17.563 | G9: =223.3/G2 -> 29.773333 | H9: 23.874
A10: Discovery - GP Network | B10: 2025 | C10: 18.002 | D10: 25.501 | E10: 20.229 | F10: 17.164 | H10: 23.33
A11: Discovery - GP Network | B11: 2026 | C11: 18.722 | D11: 26.101 | E11: 21.038 | F11: 1.3409722 | H11: 24.263
A12: FedHealth - Network | B12: 2025 | C12: 18.556667 | D12: 26.290909 | F12: 17.688 | G12: 29.973333 | H12: 24.752809
A13: FedHealth - Network | B13: 2026 | C13: =574/C2 -> 19.133333 | D13: =2087.2/D2 -> 27.106494 | E13: =281.5/E2 -> 14.73822 | F13: =911.8/F2 -> 18.236 | G13: =231.8/G2 -> 30.906667 | H13: =227.1/13.4 -> 16.947761
A14: GEMS (non) - GP | B14: 2025 | C14: 17.083333 | D14: 24.207792 | E14: 13.167539 | F14: 16.284 | G14: 27.626667 | H14: 22.797753
A15: GEMS (non) - Paeds | B15: 2025 | C15: 17.57 | D15: 24.888312 | E15: 20.303665 | F15: 16.748 | G15: 28.386667 | H15: 23.5
A16: GEMS (non) - Gyn | B16: 2025 | C16: 17.57 | D16: 24.888312 | E16: 20.303665 | F16: 16.748 | G16: 28.386667 | H16: 23.5
A17: GEMS (non) - Physician Fraternity - 17, 18, 19, 20, 21, 31 - Surgical Fraternity - 24, 26, 28, 30, 36, 42, 44, 46, 114 | B17: 2025 | C17: 18.376667 | D17: 26.024675 | E17: 21.240838 | F17: 17.516 | G17: 29.706667 | H17: 22.977612 | K17: 0 | L17: 0 | M17: 0 | N17: 0 | O17: 0 | P17: 0 | Q17: 0 | R17: 0 | S17: 0
A18: GEMS (Con) - GP | B18: 2025 | C18: 19.046667 | D18: 26.980519 | E18: 14.680628 | F18: 18.168 | G18: 30.746667 | H18: 25.438202
A19: GEMS (Con) - Paeds | B19: 2025 | C19: 24.326667 | D19: 34.487013 | E19: 28.136126 | F19: 23.202 | G19: 39.373333 | H19: 32.455224
A20: GEMS (Con) - Gyn | B20: 2025 | C20: 24.326667 | D20: 34.487013 | E20: 28.136126 | F20: 23.202 | G20: 39.373333 | H20: 32.455224
A21: GEMS (Con) - 17 -18 - 19 - 20 - 21 - 31 | B21: 2025 | C21: 24.34 | D21: 34.487013 | E21: 21.649215 | F21: 23.204 | G21: 39.386667 | H21: 24.962687
A22: GEMS (non) - GP | B22: 2026 | C22: =527.1/C2 -> 17.57 | D22: =1917.1/D2 -> 24.897403 | E22: =258.7/E2 -> 13.544503 | F22: =837.4/F2 -> 16.748 | G22: =213.1/G2 -> 28.413333 | H22: =208.7/8.9 -> 23.449438
A23: GEMS (non) - Paeds | B23: 2026 | C23: =542.1/C2 -> 18.07 | D23: =1971/D2 -> 25.597403 | E23: =398.9/E2 -> 20.884817 | F23: =861.3/F2 -> 17.226 | G23: =219/G2 -> 29.2 | H23: =322.9/13.4 -> 24.097015
A24: GEMS (non) - Gyn | B24: 2026 | C24: 18.07 | D24: 25.597403 | E24: 20.884817 | F24: 17.226 | G24: 29.2 | H24: 24.097015
A25: GEMS (non) - Physician Fraternity - 17, 18, 19, 20, 21, 31 - Surgical Fraternity - 24, 26, 28, 30, 36, 42, 44, 46, 114 | B25: 2026 | C25: =568.4/C2 -> 18.946667 | D25: =2066/D2 -> 26.831169 | E25: =418.3/E2 -> 21.900524 | F25: =902.9/F2 -> 18.058 | G25: =229.7/G2 -> 30.626667 | H25: =338.3/13.4 -> 25.246269 | K25: =K31:Z31 -> 0 | L25: =L31:AA31 -> 0 | M25: =M31:AB31 -> 0 | N25: =N31:AC31 -> 0 | O25: =O31:AD31 -> 0 | P25: =P31:AE31 -> 0 | Q25: =Q31:AF31 -> 0 | R25: =R31:AG31 -> 0 | S25: =S31:AH31 -> 0
A26: GEMS (Con) - GP | B26: 2026 | C26: =589.1/C2 -> 19.636667 | D26: =2141.9/D2 -> 27.816883 | E26: =289.1/E2 -> 15.136126 | F26: =936.1/F2 -> 18.722 | G26: =237.7/G2 -> 31.693333 | H26: =233.4/8.9 -> 26.224719
A27: GEMS (Con) - Paeds | B27: 2026 | C27: 25.08 | D27: 35.555844 | E27: 29.010471 | F27: 23.922 | G27: 40.6 | H27: 33.462687
A28: GEMS (Con) - Gyn | B28: 2026 | C28: =752.4/C2 -> 25.08 | D28: =2737.8/D2 -> 35.555844 | E28: =554.1/E2 -> 29.010471 | F28: =1196.1/F2 -> 23.922 | G28: =304.5/G2 -> 40.6 | H28: =448.4/13.4 -> 33.462687
A29: GEMS (Con Phys) - 17 -18 - 19 - 20 - 21 - 31 | B29: 2026 | C29: =752.8/C2 -> 25.093333 | D29: =2737.8/D2 -> 35.555844 | E29: =426.3/E2 -> 22.319372 | F29: =1196.2/F2 -> 23.924 | G29: =304.6/G2 -> 40.613333 | H29: =344.9/13.4 -> 25.738806
A30: GEMS | B30: 2025
A31: GEMS | B31: 2026
A32: KeyHealth | B32: 2025 | C32: 19.366 | D32: 27.433 | E32: 22.388 | F32: 18.46 | H32: 25.82 | I32: 31.272 | J32: 35.058
A33: KeyHealth | B33: 2026 | C33: =C32*1.039 -> 20.121274 | D33: =D32*1.039 -> 28.502887 | E33: =E32*1.039 -> 23.261132 | F33: =F32*1.039 -> 19.17994 | G33: =G32*1.039 -> 0 | H33: =H32*1.039 -> 26.82698 | I33: 32.491 | J33: 36.425
A34: Polmed Network | B34: 2025 | C34: 19.276667 | D34: 27.302597 | E34: 14.848168 | F34: 18.37 | G34: 31.106667 | H34: 13.134328
A35: Polmed Network | B35: 2026 | C35: =785.7/C2 -> 26.19 | D35: =2865/D2 -> 37.207792 | E35: =296.7/E2 -> 15.534031 | F35: =1247.8/F2 -> 24.956 | G35: =317.1/G2 -> 42.28 | H35: =239.1/13.4 -> 17.843284
A36: Bestmed Non-network | B36: 2025 | C36: 18.7 | D36: 26.498701 | E36: 14.418848 | F36: 17.832 | H36: 16.380597
A37: Bestmed Non-network | B37: 2026 | C37: =584.6/C2 -> 19.486667 | D37: =2126.1/D2 -> 27.611688 | E37: =287/E2 -> 15.026178 | F37: =929/F2 -> 18.58 | H37: =228.7/13.4 -> 17.067164
A38: Medihelp | B38: 2025 | C38: 18.323333 | D38: 25.796104 | E38: 18.17801 | F38: 17.36 | H38: 20.955224
A39: Medihelp | B39: 2026 | C39: =568.4/C2 -> 18.946667 | D39: =2107.3/D2 -> 27.367532 | E39: =354.1/E2 -> 18.539267 | F39: =920.8/F2 -> 18.416 | G39: =229.47/G2 -> 30.596 | H39: =286.4/13.4 -> 21.373134
A40: ProfMed | B40: 2025 | C40: 18.247 | D40: 25.849 | E40: 21.095 | F40: 17.73 | H40: 24.799 | I40: 29.465 | J40: 33.672
...
