Workbook
Name PredDLR: [1]Parameters!$C$45
Name PredOHR: [1]Parameters!$C$38
Name VAT: [1]Parameters!$C$20

Sheet GP Comparitive Tariffs
A1: HEALTHMAN GENERAL PRACTITIONERS COSTING GUIDE 2026
A3: COMPARATIVE TARIFFS | D3: HealthMan | F3: BankMed | H3: BestMed | J3: Bonitas | L3: Discovery | P3: CAMAF | R3: FedHealth | T3: GEMS | X3: KeyHealth | Z3: Medihelp | AB3: POLMED | AD3: ProfMed
A4: Code | B4: Terminology | C4: Average Duration Professional | D4: Upper Benchmark Tariff | E4: RCF | F4: Base Rate | G4: RCF | H4: Non Network Base Rate | I4: RCF | J4: Network Base Rate | K4: RCF | L4: Base Rate | M4: RCF | N4: DHGP Network | O4: DHGP RCF | P4: Base Rate | Q4: RCF | R4: Network Base Rate | S4: RCF | T4: Non-Contracted Base Rate | U4: Non-Contracted RCF | V4: Contracted Base Rate | W4: Contracted RCF | X4: Base Rate | Y4: RCF | Z4: Base Rate | AA4: RCF | AB4: Network Base Rate | AC4: RCF | AD4: Base Rate | AE4: RCF
C6: Units | D6: R | E6: R | F6: R | G6: R | H6: R | I6: R | J6: R | K6: R | L6: R | M6: R | N6: R | O6: R | P6: R | Q6: R | R6: R | S6: R | T6: R | U6: R | V6: R | W6: R | X6: R | Y6: R | Z6: R | AA6: R | AB6: R | AC6: R | AD6: R | AE6: R
B7: Consultations:
B9: See the Notes below for All Tariffs
A10: 107 | B10: Newborn Attendance -Visit in Ward | C10: 33 | D10: =ROUND(E10*C10,1) -> 1951 | E10: =RCF!$C$47 -> 59.121482 | F10: 986.1 | G10: =F10/C10 -> 29.881818 | H10: 1026.7 | I10: =H10/C10 -> 31.112121 | J10: 1032.4 | K10: =J10/C10 -> 31.284848 | L10: 932.3 | M10: =L10/C10 -> 28.251515 | N10: 991 | O10: =N10/C10 -> 30.030303 | P10: 1056.4 | Q10: =P10/C10 -> 32.012121 | R10: 1019.8 | S10: =R10/C10 -> 30.90303 | T10: 936 | U10: =T10/$C10 -> 28.363636 | V10: 1046.4 | W10: =V10/$C10 -> 31.709091 | X10: 1072.7 | Y10: =X10/C10 -> 32.506061 | AA10: =Z10/C10 -> 0 | AB10: 1045.8 | AC10: =AB10/C10 -> 31.690909 | AD10: =ROUND(AE10*C10,1) -> 1161.2 | AE10: =RCF!J$41 -> 35.187
A11: 109 | B11: Hospital follow-up visit | C11: 15 | D11: =ROUND(E11*C11,1) -> 886.8 | E11: =RCF!$C$47 -> 59.121482 | F11: 448.2 | G11: =F11/C11 -> 29.88 | H11: 466.7 | I11: =H11/C11 -> 31.113333 | J11: 469.1 | K11: =J11/C11 -> 31.273333 | L11: 303.6 | M11: =L11/C11 -> 20.24 | N11: 322.9 | O11: =N11/C11 -> 21.526667 | P11: 480.2 | Q11: =P11/C11 -> 32.013333 | R11: 463.4 | S11: =R11/C11 -> 30.893333 | T11: 425.8 | U11: =T11/$C11 -> 28.386667 | V11: 475.5 | W11: =V11/$C11 -> 31.7 | X11: 546.6 | Y11: =X11/C11 -> 36.44 | AA11: =Z11/C11 -> 0 | AB11: 475.2 | AC11: =AB11/C11 -> 31.68 | AD11: =ROUND(AE11*C11,1) -> 527.8 | AE11: =RCF!J$41 -> 35.187
A12: 113 | B12: Newborn Attendance - emergency at all hours | C12: 45 | D12: =ROUND(E12*C12,1) -> 2660.5 | E12: =RCF!$C$47 -> 59.121482 | F12: 1344.5 | G12: =F12/C12 -> 29.877778 | H12: 1400.5 | I12: =H12/C12 -> 31.122222 | J12: 1407.7 | K12: =J12/C12 -> 31.282222 | L12: 1271.4 | M12: =L12/C12 -> 28.253333 | N12: 1351.6 | O12: =N12/C12 -> 30.035556 | P12: 1440.5 | Q12: =P12/C12 -> 32.011111 | R12: 1390.8 | S12: =R12/C12 -> 30.906667 | T12: 1277.3 | U12: =T12/$C12 -> 28.384444 | V12: 1427.1 | W12: =V12/$C12 -> 31.713333 | X12: 1462.1 | Y12: =X12/C12 -> 32.491111 | AA12: =Z12/C12 -> 0 | AB12: 1426 | AC12: =AB12/C12 -> 31.688889 | AD12: =ROUND(AE12*C12,1) -> 1583.4 | AE12: =RCF!J$41 -> 35.187
A13: 129 | B13: Prolonged first/follow-up consultation : for each 15-minute period only if service extends 10 minutes or more into the next 15-minute period following on the first 60 minutes | C13: 15 | D13: =ROUND(E13*C13,1) -> 886.8 | E13: =RCF!$C$47 -> 59.121482 | F13: 448.2 | G13: =F13/C13 -> 29.88 | H13: 466.7 | I13: =H13/C13 -> 31.113333 | J13: 469.1 | K13: =J13/C13 -> 31.273333 | L13: 423.7 | M13: =L13/C13 -> 28.246667 | N13: 450.4 | O13: =N13/C13 -> 30.026667 | P13: 480.2 | Q13: =P13/C13 -> 32.013333 | R13: 463.4 | S13: =R13/C13 -> 30.893333 | T13: 425.8 | U13: =T13/$C13 -> 28.386667 | V13: 475.5 | W13: =V13/$C13 -> 31.7 | X13: 546.6 | Y13: =X13/C13 -> 36.44 | AA13: =Z13/C13 -> 0 | AB13: 533.1 | AC13: =AB13/C13 -> 35.54 | AD13: =ROUND(AE13*C13,1) -> 527.8 | AE13: =RCF!J$41 -> 35.187
A14: 130 | B14: Telephone consultation (all hours) (Refer to rules and interpretation) | C14: 12 | D14: =ROUND(E14*C14,1) -> 709.5 | E14: =RCF!$C$47 -> 59.121482 | F14: 251.4 | G14: =F14/C14 -> 20.95 | H14: 379.1 | I14: =H14/C14 -> 31.591667 | J14: 375.5 | K14: =J14/C14 -> 31.291667 | L14: 262 | M14: =L14/C14 -> 21.833333 | N14: 278.3 | O14: =N14/C14 -> 23.191667 | P14: 0 | Q14: =P14/C14 -> 0 | R14: 371.2 | S14: =R14/C14 -> 30.933333 | T14: 340.3 | U14: =T14/$C14 -> 28.358333 | V14: 380.5 | W14: =V14/$C14 -> 31.708333 | X14: 390.4 | Y14: =X14/C14 -> 32.533333 | AA14: =Z14/C14 -> 0 | AB14: 380.4 | AC14: =AB14/C14 -> 31.7 | AD14: =ROUND(AE14*C14,1) -> 422.2 | AE14: =RCF!J$41 -> 35.187
A15: 132 | B15: Consulting Service, e.g. Repeat Script | C15: 5 | D15: =ROUND(E15*C15,1) -> 295.6 | E15: =RCF!$C$47 -> 59.121482 | F15: 167.5 | G15: =F15/C15 -> 33.5 | H15: 157.9 | I15: =H15/C15 -> 31.58 | J15: 156.9 | K15: =J15/C15 -> 31.38 | L15: 141.1 | M15: =L15/C15 -> 28.22 | N15: 149.8 | O15: =N15/C15 -> 29.96 | P15: 160.1 | Q15: =P15/C15 -> 32.02 | R15: 154.9 | S15: =R15/C15 -> 30.98 | T15: 158.9 | U15: =T15/$C15 -> 31.78 | V15: 158.6 | W15: =V15/$C15 -> 31.72 | X15: 162.7 | Y15: =X15/C15 -> 32.54 | AA15: =Z15/C15 -> 0 | AB15: 177.8 | AC15: =AB15/C15 -> 35.56 | AD15: =ROUND(AE15*C15,1) -> 175.9 | AE15: =RCF!J$41 -> 35.187
A16: 133 | B16: Writing of special motivations and treatment | C16: 9 | D16: =ROUND(E16*C16,1) -> 532.1 | E16: =RCF!$C$47 -> 59.121482 | F16: 268.9 | G16: =F16/C16 -> 29.877778 | H16: 284.6 | I16: =H16/C16 -> 31.622222 | J16: 281.3 | K16: =J16/C16 -> 31.255556 | L16: 254 | M16: =L16/C16 -> 28.222222 | N16: 269.8 | O16: =N16/C16 -> 29.977778 | P16: 288.1 | Q16: =P16/C16 -> 32.011111 | R16: 277.9 | S16: =R16/C16 -> 30.877778 | T16: 255.3 | U16: =T16/$C16 -> 28.366667 | V16: 285.1 | W16: =V16/$C16 -> 31.677778 | X16: 292.4 | Y16: =X16/C16 -> 32.488889 | AA16: =Z16/C16 -> 0 | AB16: 285.5 | AC16: =AB16/C16 -> 31.722222 | AD16: =ROUND(AE16*C16,1) -> 316.7 | AE16: =RCF!J$41 -> 35.187
A17: 126 | B17: Unscheduled consultation (cons.room) | C17: 8 | D17: =ROUND(E17*C17,1) -> 473 | E17: =RCF!$C$47 -> 59.121482 | G17: =F17/C17 -> 0 | H17: =H19 -> 248.8 | I17: =H17/C17 -> 31.1 | J17: 280.5 | K17: =J17/C17 -> 35.0625 | L17: =L19 -> 226.2 | M17: =L17/C17 -> 28.275 | N17: =N19 -> 240.3 | O17: =N17/C17 -> 30.0375 | P17: =P19 -> 256.1 | Q17: =P17/C17 -> 32.0125 | R17: =R19 -> 247.1 | S17: =R17/C17 -> 30.8875 | T17: =T19 -> 227.1 | U17: =T17/$C17 -> 28.3875 | V17: =V19 -> 253.5 | W17: =V17/$C17 -> 31.6875 | X17: =X19 -> 291.6 | Y17: =X17/C17 -> 36.45 | Z17: =Z19 -> 0 | AA17: =Z17/C17 -> 0 | AB17: =AB19 -> 253.4 | AC17: =AB17/C17 -> 31.675 | AD17: =ROUND(AE17*C17,1) -> 281.5 | AE17: =RCF!J$41 -> 35.187
A18: 145 | B18: Consultation : Away from doctor's room | C18: 6 | D18: =ROUND(E18*C18,1) -> 354.7 | E18: =RCF!$C$47 -> 59.121482 | F18: 179.4 | G18: =F18/C18 -> 29.9 | H18: 187 | I18: =H18/C18 -> 31.166667 | J18: =ROUNDDOWN(C18*K18,1) -> 187.6 | K18: =K$11 -> 31.273333 | L18: 169.6 | M18: =L18/C18 -> 28.266667 | N18: 180.3 | O18: =N18/C18 -> 30.05 | P18: 192.1 | Q18: =P18/C18 -> 32.016667 | R18: =ROUNDDOWN(C18*S18,1) -> 185.3 | S18: =S$11 -> 30.893333 | T18: 170.3 | U18: =T18/$C18 -> 28.383333 | V18: 190.2 | W18: =V18/$C18 -> 31.7 | X18: 218.6 | Y18: =X18/C18 -> 36.433333 | AA18: =Z18/C18 -> 0 | AB18: =ROUNDDOWN(C18*AC18,1) -> 190 | AC18: =AC$11 -> 31.68 | AD18: =ROUND(AE18*C18,1) -> 211.1 | AE18: =RCF!J$41 -> 35.187
A19: 146 | B19: Emergency consultation (cons.room) | C19: 8 | D19: =ROUND(E19*C19,1) -> 473 | E19: =RCF!$C$47 -> 59.121482 | F19: 239 | G19: =F19/C19 -> 29.875 | H19: 248.8 | I19: =H19/C19 -> 31.1 | J19: =ROUNDDOWN(C19*K19,1) -> 250.1 | K19: =K$11 -> 31.273333 | L19: 226.2 | M19: =L19/C19 -> 28.275 | N19: 240.3 | O19: =N19/C19 -> 30.0375 | P19: 256.1 | Q19: =P19/C19 -> 32.0125 | R19: =ROUNDDOWN(C19*S19,1) -> 247.1 | S19: =S$11 -> 30.893333 | T19: 227.1 | U19: =T19/$C19 -> 28.3875 | V19: 253.5 | W19: =V19/$C19 -> 31.6875 | X19: 291.6 | Y19: =X19/C19 -> 36.45 | AA19: =Z19/C19 -> 0 | AB19: =ROUNDDOWN(C19*AC19,1) -> 253.4 | AC19: =AC$11 -> 31.68 | AD19: =ROUND(AE19*C19,1) -> 281.5 | AE19: =RCF!J$41 -> 35.187
A20: 147 | B20: Emergency consultation (not cons.room) | C20: 14 | D20: =ROUND(E20*C20,1) -> 827.7 | E20: =RCF!$C$47 -> 59.121482 | F20: 418.1 | G20: =F20/C20 -> 29.864286 | H20: 435.8 | I20: =H20/C20 -> 31.128571 | J20: =ROUNDDOWN(C20*K20,1) -> 437.8 | K20: =K$11 -> 31.273333 | L20: 395.9 | M20: =L20/C20 -> 28.278571 | N20: 420.9 | O20: =N20/C20 -> 30.064286 | P20: 448.2 | Q20: =P20/C20 -> 32.014286 | R20: =ROUNDDOWN(C20*S20,1) -> 432.5 | S20: =S$11 -> 30.893333 | T20: 397.3 | U20: =T20/$C20 -> 28.378571 | V20: 443.7 | W20: =V20/$C20 -> 31.692857 | X20: 509.9 | Y20: =X20/C20 -> 36.421429 | AA20: =Z20/C20 -> 0 | AB20: =ROUNDDOWN(C20*AC20,1) -> 443.5 | AC20: =AC$11 -> 31.68 | AD20: =ROUND(AE20*C20,1) -> 492.6 | AE20: =RCF!J$41 -> 35.187
A21: 148 | B21: Elective after-hours services on request of patient or family (non-emergency). Add 50% of consultation fee | D21: =ROUND(E21*C21,1) -> 0 | E21: 0 | F21: 0 | G21: 0 | H21: 261.4 | I21: 0 | J21: 0 | L21: 233.1 | N21: 0 | O21: 0 | P21: 1781.3 | Q21: 0 | R21: 0 | T21: 0 | U21: 0 | V21: 0 | W21: 0 | X21: 0 | Y21: 0 | Z21: 0 | AA21: 0 | AB21: 0 | AC21: 0 | AD21: =ROUND(AE21*C21,1) -> 0 | AE21: 0
A22: 149 | B22: After-hours bona fide emergency consultation. Add 25% of consultation fee. (21:00 to 06:00) | D22: =ROUND(E22*C22,1) -> 0 | E22: 0 | F22: 0 | G22: 0 | H22: 0 | I22: 0 | L22: 0 | N22: 0 | O22: 0 | P22: 0 | Q22: 0 | R22: 0 | T22: 119.4 | U22: 0 | V22: 133.3 | W22: 0 | X22: 0 | Y22: 0 | Z22: 0 | AA22: 0 | AB22: 0 | AC22: 0 | AD22: =ROUND(AE22*C22,1) -> 0 | AE22: 0
A23: 151 | B23: Pre-anaesthetic assessment of patient: between 10 and 20 minutes | C23: 16 | D23: =ROUND(E23*C23,1) -> 945.9 | E23: =RCF!$C$47 -> 59.121482 | F23: 535.9 | G23: =F23/C23 -> 33.49375 | H23: 506.5 | I23: =H23/C23 -> 31.65625 | J23: 500.3 | K23: =J23/C23 -> 31.26875 | L23: 477.2 | M23: =L23/C23 -> 29.825 | N23: 507.3 | O23: =N23/C23 -> 31.70625 | P23: 512.2 | Q23: =P23/C23 -> 32.0125 | R23: 494.5 | S23: =R23/C23 -> 30.90625 | T23: 509.1 | U23: 0 | V23: 568.8 | W23: 0 | X23: 520.2 | Y23: =X23/C23 -> 32.5125 | AA23: =Z23/C23 -> 0 | AB23: 568.1 | AC23: =AB23/C23 -> 35.50625 | AD23: =ROUND(AE23*C23,1) -> 0
A24: 152 | B24: Pre-anaesthetic assessment of patient: between 20 and 35 minutes | C24: 16 | D24: =ROUND(E24*C24,1) -> 945.9 | E24: =RCF!$C$47 -> 59.121482 | F24: 535.9 | G24: =F24/C24 -> 33.49375 | H24: 506.5 | I24: =H24/C24 -> 31.65625 | J24: 500.3 | K24: =J24/C24 -> 31.26875 | L24: 477.2 | M24: =L24/C24 -> 29.825 | N24: 507.3 | O24: =N24/C24 -> 31.70625 | P24: 512.2 | Q24: =P24/C24 -> 32.0125 | R24: 494.5 | S24: =R24/C24 -> 30.90625 | T24: 509.1 | U24: 0 | V24: 568.8 | W24: 0 | X24: 520.2 | Y24: =X24/C24 -> 32.5125 | AA24: =Z24/C24 -> 0 | AB24: 568.1 | AC24: =AB24/C24 -> 35.50625 | AD24: =ROUND(AE24*C24,1) -> 563 | AE24: =RCF!J$41 -> 35.187
A25: 173 | B25: First Hospital Consultation (of an average duration and/or complexity) | C25: 15 | D25: =ROUND(E25*C25,1) -> 886.8 | E25: =RCF!$C$47 -> 59.121482 | F25: 502.7 | G25: =F25/C25 -> 33.513333 | H25: 523 | I25: =H25/C25 -> 34.866667 | J25: 524.3 | K25: =J25/C25 -> 34.953333 | L25: 475.5 | M25: =L25/C25 -> 31.7 | N25: 505.5 | O25: =N25/C25 -> 33.7 | P25: 534.4 | Q25: =P25/C25 -> 35.626667 | R25: 519.8 | S25: =R25/C25 -> 34.653333 | T25: 477.5 | U25: =T25/$C25 -> 31.833333 | V25: 532.8 | W25: =V25/$C25 -> 35.52 | X25: 546.6 | Y25: =X25/C25 -> 36.44 | AA25: =Z25/C25 -> 0 | AB25: 533.1 | AC25: =AB25/C25 -> 35.54 | AD25: 527.8295 | AE25: =AD25/C25 -> 35.188633
A26: 174 | B26: First Hospital Consultation (of a moderately above average duration and/or complexity) | C26: 30 | D26: =ROUND(E26*C26,1) -> 1773.6 | E26: =RCF!$C$47 -> 59.121482 | F26: 502.7 | G26: =F26/C26 -> 16.756667 | H26: 523 | I26: =H26/C26 -> 17.433333 | J26: 526.3 | K26: =J26/C26 -> 17.543333 | L26: 475.5 | M26: =L26/C26 -> 15.85 | N26: 505.5 | O26: =N26/C26 -> 16.85 | P26: 534.4 | Q26: =P26/C26 -> 17.813333 | R26: 519.8 | S26: =R26/C26 -> 17.326667 | T26: 477.5 | U26: =T26/$C26 -> 15.916667 | V26: 532.8 | W26: =V26/$C26 -> 17.76 | X26: 546.6 | Y26: =X26/C26 -> 18.22 | AA26: =Z26/C26 -> 0 | AB26: 533.1 | AC26: =AB26/C26 -> 17.77 | AD26: 527.8295 | AE26: =AD26/C26 -> 17.594317
A27: 175 | B27: First Hospital Consultation (of long duration and/or high complexity) | C27: 45 | D27: =ROUND(E27*C27,1) -> 2660.5 | E27: =RCF!$C$47 -> 59.121482 | F27: 502.7 | G27: =F27/C27 -> 11.171111 | H27: 523 | I27: =H27/C27 -> 11.622222 | J27: 526.3 | K27: =J27/C27 -> 11.695556 | L27: 475.5 | M27: =L27/C27 -> 10.566667 | N27: 505.5 | O27: =N27/C27 -> 11.233333 | P27: 534.4 | Q27: =P27/C27 -> 11.875556 | R27: 519.8 | S27: =R27/C27 -> 11.551111 | T27: 477.5 | U27: =T27/$C27 -> 10.611111 | V27: 532.8 | W27: =V27/$C27 -> 11.84 | X27: 546.6 | Y27: =X27/C27 -> 12.146667 | AA27: =Z27/C27 -> 0 | AB27: 533.1 | AC27: =AB27/C27 -> 11.846667 | AD27: 527.8295 | AE27: =AD27/C27 -> 11.729544
A28: 190 | B28: Consultation of new or established patient (of an average duration and/or complexity) | C28: 15 | D28: =ROUND(E28*C28,1) -> 886.8 | E28: =RCF!$C$47 -> 59.121482 | F28: 502.7 | G28: =F28/C28 -> 33.513333 | H28: 521.2 | I28: =H28/C28 -> 34.746667 | J28: 526.3 | K28: =J28/C28 -> 35.086667 | L28: 523.6 | M28: =L28/C28 -> 34.906667 | N28: 556.5 | O28: =N28/C28 -> 37.1 | P28: 0 | Q28: =P28/C28 -> 0 | R28: 463.1 | S28: =R28/C28 -> 30.873333 | T28: 477.5 | U28: =T28/$C28 -> 31.833333 | V28: 532.8 | W28: =V28/$C28 -> 35.52 | X28: 563.6 | Y28: =X28/C28 -> 37.573333 | AA28: =Z28/C28 -> 0 | AB28: 533.4 | AC28: =AB28/C28 -> 35.56 | AD28: 527.8295 | AE28: =AD28/C28 -> 35.188633
A29: 191 | B29: Consultation of new or established patient (of a moderately above average duration and/or complexity) | C29: 30 | D29: =ROUND(E29*C29,1) -> 1773.6 | E29: =RCF!$C$47 -> 59.121482 | F29: 502.7 | G29: =F29/C29 -> 16.756667 | H29: 521.2 | I29: =H29/C29 -> 17.373333 | J29: 526.3 | K29: =J29/C29 -> 17.543333 | L29: 523.6 | M29: =L29/C29 -> 17.453333 | N29: 556.5 | O29: =N29/C29 -> 18.55 | P29: 0 | Q29: =P29/C29 -> 0 | R29: 519.8 | S29: =R29/C29 -> 17.326667 | T29: 477.5 | U29: =T29/$C29 -> 15.916667 | V29: 532.8 | W29: =V29/$C29 -> 17.76 | X29: 563.6 | Y29: =X29/C29 -> 18.786667 | AA29: =Z29/C29 -> 0 | AB29: 533.4 | AC29: =AB29/C29 -> 17.78 | AD29: 527.8295 | AE29: =AD29/C29 -> 17.594317
A30: 192 | B30: Consultation of new or established patient (of long duration and/or high complexity) | C30: 45 | D30: =ROUND(E30*C30,1) -> 2660.5 | E30: =RCF!$C$47 -> 59.121482 | F30: 502.7 | G30: =F30/C30 -> 11.171111 | H30: 521.2 | I30: =H30/C30 -> 11.582222 | J30: 526.3 | K30: =J30/C30 -> 11.695556 | L30: 523.6 | M30: =L30/C30 -> 11.635556 | N30: 556.5 | O30: =N30/C30 -> 12.366667 | P30: 0 | Q30: =P30/C30 -> 0 | R30: 519.8 | S30: =R30/C30 -> 11.551111 | T30: 477.5 | U30: =T30/$C30 -> 10.611111 | V30: 532.8 | W30: =V30/$C30 -> 11.84 | X30: 563.6 | Y30: =X30/C30 -> 12.524444 | AA30: =Z30/C30 -> 0 | AB30: 533.4 | AC30: =AB30/C30 -> 11.853333 | AD30: 527.8295 | AE30: =AD30/C30 -> 11.729544
A31: 193 | B31: Consultation of new or established patient (of long duration and/or high complexity) | C31: 63.6 | D31: =ROUND(E31*C31,1) -> 3760.1 | E31: =RCF!$C$47 -> 59.121482 | F31: 502.7 | G31: =F31/C31 -> 7.9040881 | H31: 521.2 | I31: =H31/C31 -> 8.1949686 | J31: 526.3 | K31: =J31/C31 -> 8.2751572 | L31: 523.6 | M31: =L31/C31 -> 8.2327044 | N31: 556.5 | O31: =N31/C31 -> 8.75 | P31: 2265.8 | Q31: =P31/C31 -> 35.625786 | R31: 519.8 | S31: =R31/C31 -> 8.172956 | T31: 477.5 | U31: =T31/$C31 -> 7.5078616 | V31: 532.8 | W31: =V31/$C31 -> 8.3773585 | X31: 563.7 | Y31: =X31/C31 -> 8.8632075 | AA31: =Z31/C31 -> 0 | AB31: =AB30 -> 533.4 | AC31: =AB31/C31 -> 8.3867925 | AD31: 0 | AE31: =AD31/C31 -> 0
A32: 199 | B32: Completion of Chronic Medication Forms on behalf of a 3rd party funder | C32: 21.43 | D32: =ROUND(E32*C32,1) -> 1267 | E32: =RCF!$C$47 -> 59.121482 | F32: 640.5 | G32: =F32/C32 -> 29.888007 | H32: 521.2 | I32: =H32/C32 -> 24.321045 | J32: 670.5 | K32: =J32/C32 -> 31.287914 | L32: 605.7 | M32: =L32/C32 -> 28.264116 | N32: 643.9 | O32: =N32/C32 -> 30.046664 | P32: 686 | Q32: =P32/C32 -> 32.011199 | R32: 662.4 | S32: =R32/C32 -> 30.909939 | T32: 608.6 | U32: =T32/$C32 -> 28.39944 | V32: 679.7 | W32: =V32/$C32 -> 31.717219 | X32: 696.3 | Y32: =X32/C32 -> 32.491834 | AA32: =Z32/C32 -> 0 | AB32: 679 | AC32: =AB32/C32 -> 31.684554 | AD32: =ROUND(AE32*C32,1) -> 754.1 | AE32: =RCF!J$41 -> 35.187
B34: Procedures:
A36: 17 | B36: Subsequent Injections as part of a planned series of injections for the same condition, administered by practitioners:(not chargeable together with a consultation item) | C36: 7.5 | D36: =ROUND(E36*C36,1) -> 0 | E36: =AE36 -> 0 | F36: =ROUND(G36*$C36,1) -> 0 | G36: =RCF!G5 -> 0 | H36: =ROUNDDOWN(I36*C36,1) -> 0 | I36: =RCF!G37 -> 0 | J36: =ROUNDDOWN(C36*K36,1) -> 0 | K36: =RCF!I7 -> 0 | L36: =ROUND(M36*$C36,1) -> 223.3 | M36: =RCF!G9 -> 29.773333 | N36: =ROUND(O36*$C36,1) -> 0 | O36: =RCF!G11 -> 0 | R36: =ROUNDDOWN(C36*S36,1) -> 0 | T36: =ROUND(U36*C36,1) -> 213.1 | U36: =RCF!G22 -> 28.413333 | V36: =ROUND(W36*C36,1) -> 208.6 | W36: =RCF!D26 -> 27.816883 | X36: =ROUNDDOWN(Y36*C36,1) -> 0 | Y36: =RCF!G33 -> 0 | Z36: =ROUNDDOWN(AA36*C36,1) -> 229.4 | AA36: =RCF!G39 -> 30.596 | AB36: =ROUNDDOWN(C36*AC36,1) -> 0 | AD36: =ROUND(AE36*C36,1) -> 0 | AE36: =RCF!G41 -> 0
A37: 202 | B37: Setting of sterile tray | C37: 10 | D37: =ROUND(E37*C37,1) -> 591.2 | E37: =RCF!$C$47 -> 59.121482 | F37: =ROUND(G37*$C37,1) -> 185.6 | G37: =RCF!C$5 -> 18.56 | H37: =ROUNDDOWN(I37*C37,1) -> 194.8 | I37: =RCF!C$37 -> 19.486667 | J37: =ROUNDDOWN(C37*K37,1) -> 193 | K37: =RCF!C$7 -> 19.303333 | L37: =ROUND(M37*$C37,1) -> 184.2 | M37: =RCF!C$9 -> 18.423 | N37: =ROUND(O37*$C37,1) -> 187.2 | O37: =RCF!C$11 -> 18.722 | P37: =ROUNDDOWN(Q37*C37,1) -> 198.2 | Q37: =RCF!C$64 -> 19.826667 | R37: =ROUNDDOWN(C37*S37,1) -> 191.3 | S37: =RCF!C$13 -> 19.133333 | T37: =ROUND(U37*C37,1) -> 175.7 | U37: =RCF!C$22 -> 17.57 | V37: =ROUND(W37*C37,1) -> 196.4 | W37: =RCF!C$26 -> 19.636667 | X37: =ROUNDDOWN(Y37*C37,1) -> 201.2 | Y37: =RCF!C$33 -> 20.121274 | Z37: =ROUNDDOWN(AA37*C37,1) -> 189.4 | AA37: =RCF!C$39 -> 18.946667 | AB37: =ROUNDDOWN(C37*AC37,1) -> 261.9 | AC37: =RCF!C$35 -> 26.19 | AD37: =ROUND(AE37*C37,1) -> 190.7 | AE37: =RCF!C$41 -> 19.068115
A38: 205 | B38: Intravenous treatment/infusion: cut down or push in for patients under 3 yrs | C38: 12 | D38: =ROUND(E38*C38,1) -> 709.5 | E38: =RCF!$C$47 -> 59.121482 | F38: =ROUND(G38*$C38,1) -> 222.7 | G38: =RCF!C$5 -> 18.56 | H38: =ROUNDDOWN(I38*C38,1) -> 233.8 | I38: =RCF!C$37 -> 19.486667 | J38: =ROUNDDOWN(C38*K38,1) -> 231.6 | K38: =RCF!C$7 -> 19.303333 | L38: =ROUND(M38*$C38,1) -> 221.1 | M38: =RCF!C$9 -> 18.423 | N38: =ROUND(O38*$C38,1) -> 224.7 | O38: =RCF!C$11 -> 18.722 | P38: =ROUNDDOWN(Q38*C38,1) -> 237.9 | Q38: =RCF!C$64 -> 19.826667 | R38: =ROUNDDOWN(C38*S38,1) -> 229.6 | S38: =RCF!C$13 -> 19.133333 | T38: =ROUND(U38*C38,1) -> 210.8 | U38: =RCF!C$22 -> 17.57 | V38: =ROUND(W38*C38,1) -> 235.6 | W38: =RCF!C$26 -> 19.636667 | X38: =ROUNDDOWN(Y38*C38,1) -> 241.4 | Y38: =RCF!C$33 -> 20.121274 | Z38: =ROUNDDOWN(AA38*C38,1) -> 227.3 | AA38: =RCF!C$39 -> 18.946667 | AB38: =ROUNDDOWN(C38*AC38,1) -> 314.2 | AC38: =RCF!C$35 -> 26.19 | AD38: =ROUND(AE38*C38,1) -> 228.8 | AE38: =RCF!C$41 -> 19.068115
A39: 206 | B39: Intravenous treatment/infusion: chargeable once per 24 hours (by medical doctor personally) | C39: 6 | D39: =ROUND(E39*C39,1) -> 354.7 | E39: =RCF!$C$47 -> 59.121482 | F39: =ROUND(G39*$C39,1) -> 111.4 | G39: =RCF!C$5 -> 18.56 | H39: =ROUNDDOWN(I39*C39,1) -> 116.9 | I39: =RCF!C$37 -> 19.486667 | J39: =ROUNDDOWN(C39*K39,1) -> 115.8 | K39: =RCF!C$7 -> 19.303333 | L39: =ROUND(M39*$C39,1) -> 110.5 | M39: =RCF!C$9 -> 18.423 | N39: =ROUND(O39*$C39,1) -> 112.3 | O39: =RCF!C$11 -> 18.722 | P39: =ROUNDDOWN(Q39*C39,1) -> 118.9 | Q39: =RCF!C$64 -> 19.826667 | R39: =ROUNDDOWN(C39*S39,1) -> 114.8 | S39: =RCF!C$13 -> 19.133333 | T39: =ROUND(U39*C39,1) -> 105.4 | U39: =RCF!C$22 -> 17.57 | V39: =ROUND(W39*C39,1) -> 117.8 | W39: =RCF!C$26 -> 19.636667 | X39: =ROUNDDOWN(Y39*C39,1) -> 120.7 | Y39: =RCF!C$33 -> 20.121274 | Z39: =ROUNDDOWN(AA39*C39,1) -> 113.6 | AA39: =RCF!C$39 -> 18.946667 | AB39: =ROUNDDOWN(C39*AC39,1) -> 157.1 | AC39: =RCF!C$35 -> 26.19 | AD39: =ROUND(AE39*C39,1) -> 114.4 | AE39: =RCF!C$41 -> 19.068115
A40: 207 | B40: Intravenous treatment/infusion: cut down for patients over 3 yrs (by medical doctor personally) | C40: 8 | D40: =ROUND(E40*C40,1) -> 473 | E40: =RCF!$C$47 -> 59.121482 | F40: =ROUND(G40*$C40,1) -> 148.5 | G40: =RCF!C$5 -> 18.56 | H40: =ROUNDDOWN(I40*C40,1) -> 155.8 | I40: =RCF!C$37 -> 19.486667 | J40: =ROUNDDOWN(C40*K40,1) -> 154.4 | K40: =RCF!C$7 -> 19.303333 | L40: =ROUND(M40*$C40,1) -> 147.4 | M40: =RCF!C$9 -> 18.423 | N40: =ROUND(O40*$C40,1) -> 149.8 | O40: =RCF!C$11 -> 18.722 | P40: =ROUNDDOWN(Q40*C40,1) -> 158.6 | Q40: =RCF!C$64 -> 19.826667 | R40: =ROUNDDOWN(C40*S40,1) -> 153 | S40: =RCF!C$13 -> 19.133333 | T40: =ROUND(U40*C40,1) -> 140.6 | U40: =RCF!C$22 -> 17.57 | V40: =ROUND(W40*C40,1) -> 157.1 | W40: =RCF!C$26 -> 19.636667 | X40: =ROUNDDOWN(Y40*C40,1) -> 160.9 | Y40: =RCF!C$33 -> 20.121274 | Z40: =ROUNDDOWN(AA40*C40,1) -> 151.5 | AA40: =RCF!C$39 -> 18.946667 | AB40: =ROUNDDOWN(C40*AC40,1) -> 209.5 | AC40: =RCF!C$35 -> 26.19 | AD40: =ROUND(AE40*C40,1) -> 152.5 | AE40: =RCF!C$41 -> 19.068115
A41: 208 | B41: Venesection: Therapeutic venesection (Not to be used when blood is drawn for the purpose of laboratory investigations) | C41: 6 | D41: =ROUND(E41*C41,1) -> 354.7 | E41: =RCF!$C$47 -> 59.121482 | F41: =ROUND(G41*$C41,1) -> 111.4 | G41: =RCF!C$5 -> 18.56 | H41: =ROUNDDOWN(I41*C41,1) -> 116.9 | I41: =RCF!C$37 -> 19.486667 | J41: =ROUNDDOWN(C41*K41,1) -> 115.8 | K41: =RCF!C$7 -> 19.303333 | L41: =ROUND(M41*$C41,1) -> 110.5 | M41: =RCF!C$9 -> 18.423 | N41: =ROUND(O41*$C41,1) -> 112.3 | O41: =RCF!C$11 -> 18.722 | P41: =ROUNDDOWN(Q41*C41,1) -> 118.9 | Q41: =RCF!C$64 -> 19.826667 | R41: =ROUNDDOWN(C41*S41,1) -> 114.8 | S41: =RCF!C$13 -> 19.133333 | T41: =ROUND(U41*C41,1) -> 105.4 | U41: =RCF!C$22 -> 17.57 | V41: =ROUND(W41*C41,1) -> 117.8 | W41: =RCF!C$26 -> 19.636667 | X41: =ROUNDDOWN(Y41*C41,1) -> 120.7 | Y41: =RCF!C$33 -> 20.121274 | Z41: =ROUNDDOWN(AA41*C41,1) -> 113.6 | AA41: =RCF!C$39 -> 18.946667 | AB41: =ROUNDDOWN(C41*AC41,1) -> 157.1 | AC41: =RCF!C$35 -> 26.19 | AD41: =ROUND(AE41*C41,1) -> 114.4 | AE41: =RCF!C$41 -> 19.068115
A42: 210 | B42: Collection of blood specimen(s) by the medical doctor for pathology per venesection | C42: 3.25 | D42: =ROUND(E42*C42,1) -> 192.1 | E42: =RCF!$C$47 -> 59.121482 | F42: =ROUND(G42*$C42,1) -> 60.3 | G42: =RCF!C$5 -> 18.56 | H42: =ROUNDDOWN(I42*C42,1) -> 63.3 | I42: =RCF!C$37 -> 19.486667 | J42: =ROUNDDOWN(C42*K42,1) -> 62.7 | K42: =RCF!C$7 -> 19.303333 | L42: =ROUND(M42*$C42,1) -> 59.9 | M42: =RCF!C$9 -> 18.423 | N42: =ROUND(O42*$C42,1) -> 60.8 | O42: =RCF!C$11 -> 18.722 | P42: =ROUNDDOWN(Q42*C42,1) -> 64.4 | Q42: =RCF!C$64 -> 19.826667 | R42: =ROUNDDOWN(C42*S42,1) -> 62.1 | S42: =RCF!C$13 -> 19.133333 | T42: =ROUND(U42*C42,1) -> 57.1 | U42: =RCF!C$22 -> 17.57 | V42: =ROUND(W42*C42,1) -> 63.8 | W42: =RCF!C$26 -> 19.636667 | X42: =ROUNDDOWN(Y42*C42,1) -> 65.3 | Y42: =RCF!C$33 -> 20.121274 | Z42: =ROUNDDOWN(AA42*C42,1) -> 61.5 | AA42: =RCF!C$39 -> 18.946667 | AB42: =ROUNDDOWN(C42*AC42,1) -> 85.1 | AC42: =RCF!C$35 -> 26.19 | AD42: =ROUND(AE42*C42,1) -> 62 | AE42: =RCF!C$41 -> 19.068115
A43: 222 | B43: Intralesional injection into areas of pathology e.g. Keloid: Single | C43: 4 | D43: =ROUND(E43*C43,1) -> 236.5 | E43: =RCF!$C$47 -> 59.121482 | F43: =ROUND(G43*$C43,1) -> 74.2 | G43: =RCF!C$5 -> 18.56 | H43: =ROUNDDOWN(I43*C43,1) -> 77.9 | I43: =RCF!C$37 -> 19.486667 | J43: =ROUNDDOWN(C43*K43,1) -> 77.2 | K43: =RCF!C$7 -> 19.303333 | L43: =ROUND(M43*$C43,1) -> 73.7 | M43: =RCF!C$9 -> 18.423 | N43: =ROUND(O43*$C43,1) -> 74.9 | O43: =RCF!C$11 -> 18.722 | P43: =ROUNDDOWN(Q43*C43,1) -> 79.3 | Q43: =RCF!C$64 -> 19.826667 | R43: =ROUNDDOWN(C43*S43,1) -> 76.5 | S43: =RCF!C$13 -> 19.133333 | T43: =ROUND(U43*C43,1) -> 70.3 | U43: =RCF!C$22 -> 17.57 | V43: =ROUND(W43*C43,1) -> 78.5 | W43: =RCF!C$26 -> 19.636667 | X43: =ROUNDDOWN(Y43*C43,1) -> 80.4 | Y43: =RCF!C$33 -> 20.121274 | Z43: =ROUNDDOWN(AA43*C43,1) -> 75.7 | AA43: =RCF!C$39 -> 18.946667 | AB43: =ROUNDDOWN(C43*AC43,1) -> 104.7 | AC43: =RCF!C$35 -> 26.19 | AD43: =ROUND(AE43*C43,1) -> 76.3 | AE43: =RCF!C$41 -> 19.068115
A44: 227 | B44: Special treatment of severe acne cases, including draining of cysts, expressing of cleaning of Comedones and/or steaming, abrasive cleaning of skin and UVR per session | C44: 8 | D44: =ROUND(E44*C44,1) -> 473 | E44: =RCF!$C$47 -> 59.121482 | F44: =ROUND(G44*$C44,1) -> 148.5 | G44: =RCF!C$5 -> 18.56 | H44: =ROUNDDOWN(I44*C44,1) -> 155.8 | I44: =RCF!C$37 -> 19.486667 | J44: =ROUNDDOWN(C44*K44,1) -> 154.4 | K44: =RCF!C$7 -> 19.303333 | L44: =ROUND(M44*$C44,1) -> 147.4 | M44: =RCF!C$9 -> 18.423 | N44: =ROUND(O44*$C44,1) -> 149.8 | O44: =RCF!C$11 -> 18.722 | P44: =ROUNDDOWN(Q44*C44,1) -> 158.6 | Q44: =RCF!C$64 -> 19.826667 | R44: =ROUNDDOWN(C44*S44,1) -> 153 | S44: =RCF!C$13 -> 19.133333 | T44: =ROUND(U44*C44,1) -> 140.6 | U44: =RCF!C$22 -> 17.57 | V44: =ROUND(W44*C44,1) -> 157.1 | W44: =RCF!C$26 -> 19.636667 | X44: =ROUNDDOWN(Y44*C44,1) -> 160.9 | Y44: =RCF!C$33 -> 20.121274 | Z44: =ROUNDDOWN(AA44*C44,1) -> 151.5 | AA44: =RCF!C$39 -> 18.946667 | AB44: =ROUNDDOWN(C44*AC44,1) -> 209.5 | AC44: =RCF!C$35 -> 26.19 | AD44: =ROUND(AE44*C44,1) -> 152.5 | AE44: =RCF!C$41 -> 19.068115
A45: 241 | B45: Treatment of benign lesion/chemo-cryotherapy: first lesion | C45: 6 | D45: =ROUND(E45*C45,1) -> 354.7 | E45: =RCF!$C$47 -> 59.121482 | F45: =ROUND(G45*$C45,1) -> 111.4 | G45: =RCF!C$5 -> 18.56 | H45: =ROUNDDOWN(I45*C45,1) -> 116.9 | I45: =RCF!C$37 -> 19.486667 | J45: =ROUNDDOWN(C45*K45,1) -> 115.8 | K45: =RCF!C$7 -> 19.303333 | L45: =ROUND(M45*$C45,1) -> 110.5 | M45: =RCF!C$9 -> 18.423 | N45: =ROUND(O45*$C45,1) -> 112.3 | O45: =RCF!C$11 -> 18.722 | P45: =ROUNDDOWN(Q45*C45,1) -> 118.9 | Q45: =RCF!C$64 -> 19.826667 | R45: =ROUNDDOWN(C45*S45,1) -> 114.8 | S45: =RCF!C$13 -> 19.133333 | T45: =ROUND(U45*C45,1) -> 105.4 | U45: =RCF!C$22 -> 17.57 | V45: =ROUND(W45*C45,1) -> 117.8 | W45: =RCF!C$26 -> 19.636667 | X45: =ROUNDDOWN(Y45*C45,1) -> 120.7 | Y45: =RCF!C$33 -> 20.121274 | Z45: =ROUNDDOWN(AA45*C45,1) -> 113.6 | AA45: =RCF!C$39 -> 18.946667 | AB45: =ROUNDDOWN(C45*AC45,1) -> 157.1 | AC45: =RCF!C$35 -> 26.19 | AD45: =ROUND(AE45*C45,1) -> 114.4 | AE45: =RCF!C$41 -> 19.068115
...

Sheet RCF
A1: Code/Scheme | C1: 1204 | D1: 3604 | E1: 4076 | F1: 3620 | G1: 0017 | H1: 4561 | I1: Conults | J1: GP Consults | K1: 2614 (New) | L1: 2615 (New) | M1: MPS (Obs Potrion) | N1: Ave Deliveies p/a | O1: Schem Units 2614 | P1: Schem Units 2615 | Q1: SAMA Units 2614 | R1: SAMA Units 2615 | S1: Unique ICU RCF
A2: Units --> | C2: 30 | D2: 77 | E2: 19.1 | F2: 50 | G2: 7.5 | H2: 8.9 (GP) /13.4 (S)
C3: Clin. Pro | D3: Radiology | E3: Clin. Path | F3: Ultra | H3: Anat. Cy
A4: Bankmed | B4: 2025 | C4: 18.315 | D4: 25.947 | E4: 20.088 | F4: 17.457 | H4: 23.162
A5: Bankmed | B5: 2026 | C5: =556.8/C2 -> 18.56 | D5: 26.933 | E5: 20.711 | F5: 18.12 | H5: 23.88
A6: Bonitas - Network | B6: 2025 | C6: 18.56 | D6: 26.293506 | F6: 17.694 | G6: 29.986667
A7: Bonitas - Network | B7: 2026 | C7: =579.1/C2 -> 19.303333 | D7: =2105.6/D2 -> 27.345455 | F7: =920.1/F2 -> 18.402 | G7: =233.9/G2 -> 31.186667
A8: Discovery | B8: 2025 | C8: 17.749 | D8: 25.145 | E8: 19.944 | F8: 16.92 | H8: 23
A9: Discovery | B9: 2026 | C9: 18.423 | D9: 26.101 | E9: 20.702 | F9: 17.563 | G9: =223.3/G2 -> 29.773333 | H9: 23.874
A10: Discovery - GP Network | B10: 2025 | C10: 18.002 | D10: 25.501 | E10: 20.229 | F10: 17.164 | H10: 23.33
A11: Discovery - GP Network | B11: 2026 | C11: 18.722 | D11: 26.101 | E11: 21.038 | F11: 1.3409722 | H11: 24.263
A12: FedHealth - Network | B12: 2025 | C12: 18.556667 | D12: 26.290909 | F12: 17.688 | G12: 29.973333 | H12: 24.752809
A13: FedHealth - Network | B13: 2026 | C13: =574/C2 -> 19.133333 | D13: =2087.2/D2 -> 27.106494 | E13: =281.5/E2 -> 14.73822 | F13: =911.8/F2 -> 18.236 | G13: =231.8/G2 -> 30.906667 | H13: =227.1/13.4 -> 16.947761
A14: GEMS (non) - GP | B14: 2025 | C14: 17.083333 | D14: 24.207792 | E14: 13.167539 | F14: 16.284 | G14: 27.626667 | H14: 22.797753
A15: GEMS (non) - Paeds | B15: 2025 | C15: 17.57 | D15: 24.888312 | E15: 20.303665 | F15: 16.748 | G15: 28.386667 | H15: 23.5
A16: GEMS (non) - Gyn | B16: 2025 | C16: 17.57 | D16: 24.888312 | E16: 20.303665 | F16: 16.748 | G16: 28.386667 | H16: 23.5
A17: GEMS (non) - Physician Fraternity - 17, 18, 19, 20, 21, 31 - Surgical Fraternity - 24, 26, 28, 30, 36, 42, 44, 46, 114 | B17: 2025 | C17: 18.376667 | D17: 26.024675 | E17: 21.240838 | F17: 17.516 | G17: 29.706667 | H17: 22.977612 | K17: 0 | L17: 0 | M17: 0 | N17: 0 | O17: 0 | P17: 0 | Q17: 0 | R17: 0 | S17: 0
A18: GEMS (Con) - GP | B18: 2025 | C18: 19.046667 | D18: 26.980519 | E18: 14.680628 | F18: 18.168 | G18: 30.746667 | H18: 25.438202
A19: GEMS (Con) - Paeds | B19: 2025 | C19: 24.326667 | D19: 34.487013 | E19: 28.136126 | F19: 23.202 | G19: 39.373333 | H19: 32.455224
A20: GEMS (Con) - Gyn | B20: 2025 | C20: 24.326667 | D20: 34.487013 | E20: 28.136126 | F20: 23.202 | G20: 39.373333 | H20: 32.455224
A21: GEMS (Con) - 17 -18 - 19 - 20 - 21 - 31 | B21: 2025 | C21: 24.34 | D21: 34.487013 | E21: 21.649215 | F21: 23.204 | G21: 39.386667 | H21: 24.962687
A22: GEMS (non) - GP | B22: 2026 | C22: =527.1/C2 -> 17.57 | D22: =1917.1/D2 -> 24.897403 | E22: =258.7/E2 -> 13.544503 | F22: =837.4/F2 -> 16.748 | G22: =213.1/G2 -> 28.413333 | H22: =208.7/8.9 -> 23.449438
A23: GEMS (non) - Paeds | B23: 2026 | C23: =542.1/C2 -> 18.07 | D23: =1971/D2 -> 25.597403 | E23: =398.9/E2 -> 20.884817 | F23: =861.3/F2 -> 17.226 | G23: =219/G2 -> 29.2 | H23: =322.9/13.4 -> 24.097015
A24: GEMS (non) - Gyn | B24: 2026 | C24: 18.07 | D24: 25.597403 | E24: 20.884817 | F24: 17.226 | G24: 29.2 | H24: 24.097015
A25: GEMS (non) - Physician Fraternity - 17, 18, 19, 20, 21, 31 - Surgical Fraternity - 24, 26, 28, 30, 36, 42, 44, 46, 114 | B25: 2026 | C25: =568.4/C2 -> 18.946667 | D25: =2066/D2 -> 26.831169 | E25: =418.3/E2 -> 21.900524 | F25: =902.9/F2 -> 18.058 | G25: =229.7/G2 -> 30.626667 | H25: =338.3/13.4 -> 25.246269 | K25: =K31:Z31 -> 0 | L25: =L31:AA31 -> 0 | M25: =M31:AB31 -> 0 | N25: =N31:AC31 -> 0 | O25: =O31:AD31 -> 0 | P25: =P31:AE31 -> 0 | Q25: =Q31:AF31 -> 0 | R25: =R31:AG31 -> 0 | S25: =S31:AH31 -> 0
A26: GEMS (Con) - GP | B26: 2026 | C26: =589.1/C2 -> 19.636667 | D26: =2141.9/D2 -> 27.816883 | E26: =289.1/E2 -> 15.136126 | F26: =936.1/F2 -> 18.722 | G26: =237.7/G2 -> 31.693333 | H26: =233.4/8.9 -> 26.224719
A27: GEMS (Con) - Paeds | B27: 2026 | C27: 25.08 | D27: 35.555844 | E27: 29.010471 | F27: 23.922 | G27: 40.6 | H27: 33.462687
A28: GEMS (Con) - Gyn | B28: 2026 | C28: =752.4/C2 -> 25.08 | D28: =2737.8/D2 -> 35.555844 | E28: =554.1/E2 -> 29.010471 | F28: =1196.1/F2 -> 23.922 | G28: =304.5/G2 -> 40.6 | H28: =448.4/13.4 -> 33.462687
A29: GEMS (Con Phys) - 17 -18 - 19 - 20 - 21 - 31 | B29: 2026 | C29: =752.8/C2 -> 25.093333 | D29: =2737.8/D2 -> 35.555844 | E29: =426.3/E2 -> 22.319372 | F29: =1196.2/F2 -> 23.924 | G29: =304.6/G2 -> 40.613333 | H29: =344.9/13.4 -> 25.738806
A30: GEMS | B30: 2025
A31: GEMS | B31: 2026
A32: KeyHealth | B32: 2025 | C32: 19.366 | D32: 27.433 | E32: 22.388 | F32: 18.46 | H32: 25.82 | I32: 31.272 | J32: 35.058
A33: KeyHealth | B33: 2026 | C33: =C32*1.039 -> 20.121274 | D33: =D32*1.039 -> 28.502887 | E33: =E32*1.039 -> 23.261132 | F33: =F32*1.039 -> 19.17994 | G33: =G32*1.039 -> 0 | H33: =H32*1.039 -> 26.82698 | I33: 32.491 | J33: 36.425
A34: Polmed Network | B34: 2025 | C34: 19.276667 | D34: 27.302597 | E34: 14.848168 | F34: 18.37 | G34: 31.106667 | H34: 13.134328
A35: Polmed Network | B35: 2026 | C35: =785.7/C2 -> 26.19 | D35: =2865/D2 -> 37.207792 | E35: =296.7/E2 -> 15.534031 | F35: =1247.8/F2 -> 24.956 | G35: =317.1/G2 -> 42.28 | H35: =239.1/13.4 -> 17.843284
A36: Bestmed Non-network | B36: 2025 | C36: 18.7 | D36: 26.498701 | E36: 14.418848 | F36: 17.832 | H36: 16.380597
A37: Bestmed Non-network | B37: 2026 | C37: =584.6/C2 -> 19.486667 | D37: =2126.1/D2 -> 27.611688 | E37: =287/E2 -> 15.026178 | F37: =929/F2 -> 18.58 | H37: =228.7/13.4 -> 17.067164
A38: Medihelp | B38: 2025 | C38: 18.323333 | D38: 25.796104 | E38: 18.17801 | F38: 17.36 | H38: 20.955224
A39: Medihelp | B39: 2026 | C39: =568.4/C2 -> 18.946667 | D39: =2107.3/D2 -> 27.367532 | E39: =354.1/E2 -> 18.539267 | F39: =920.8/F2 -> 18.416 | G39: =229.47/G2 -> 30.596 | H39: =286.4/13.4 -> 21.373134
A40: ProfMed | B40: 2025 | C40: 18.247 | D40: 25.849 | E40: 21.095 | F40: 17.73 | H40: 24.799 | I40: 29.465 | J40: 33.672
...
